Workbook

Sheet Оглавление
A1: Трубы и фитинги из полипропилена
A2: Канализация внутренняя СТАНДАРТ Контур
A3: Канализация наружная ОРАНЖ Контур
A4: Канализация малошумная УЮТ Контур
A5: Теплый пол Контур
A6: Теплый пол Gray Контур
A7: Ostendorf Пластиковые изделия
A8: СЕВЕР гидравлические распределите и коллектора
A9: Теплый пол Palanzh
A10: Инструменты и алюминиевый профиль
A11: Motusline расходные материалы для крепления теплого пола
A12: EasyFix теплоизоляция для теплого пола
... A17: БАЗ запорная арматура

Sheet Лист1
A1: Номенклатура | B1: Артикул | C1: Цена
A2: PE-RT тип I труба тёплый пол D16х2,0 КОНТУР 100м | B2: 60100016000 | C2: 239
A3: PE-RT тип I труба тёплый пол D16х2,0 КОНТУР 200м | B3: 60100016200 | C3: 239
A4: PE-RT тип I труба тёплый пол D16х2,0 КОНТУР 500м | B4: 60100016500 | C4: 239
A5: PE-RT тип I труба тёплый пол D20х2,0 КОНТУР 200м | B5: 60100020200 | C5: 324
A6: PE-RT тип I труба тёплый пол с антидиффузионным слоем EVOH D16х2,0 КОНТУР 200м | B6: 60400016200 | C6: 522
A7: PE-RT тип II труба D25х3,5 G-RAY КОНТУР 50м | B7: 60200025000 | C7: 919
A8: PE-RT тип II труба с антидиффузионным слоем EVOH D16х2,2 G-RAY OXY КОНТУР 100м | B8: 60300016001 | C8: 405
A9: PE-RT тип II труба с антидиффузионным слоем EVOH D16х2,2 G-RAY OXY КОНТУР 150м | B9: 60300016000 | C9: 405
A10: PE-RT тип II труба с антидиффузионным слоем EVOH D32х4,4 G-RAY OXY КОНТУР 50м | B10: 60300032000 | C10: 1680
A11: PE-Xa труба с антидиффузионным слоем EVOH D16х2,2 G-RAY OXY КОНТУР 150м | B11: 60500016100 | C11: 498
A12: PE-Xa труба с антидиффузионным слоем EVOH D16х2,2 G-RAY OXY КОНТУР 200м | B12: 60500016200 | C12: 524
A13: PE-Xa труба с антидиффузионным слоем EVOH D20х2,8 G-RAY OXY КОНТУР 100м | B13: 60500020100 | C13: 837
... A887: Чехол теплоизоляционный Север-М6 | B887: 1965071 | C887: 37996
A888: PERT 5A 1620W Труба Pert-Al-Pert 16,0 х 2,0 Palanzh | B888: PERT 5A 1620W | C888: 502
A889: PERT 5A 2020W Труба Pert-Al-Pert 20,0 х 2,0 Palanzh | B889: PERT 5A 2020W | C889: 699
A890: PEX 3 1622G Труба PE-X/EVOH 16,0 х 2,2 Palanzh | B890: PEX 3 1622G | C890: 461
A891: PEX 3 2028G Труба PE-X/EVOH 20,0 х 2,8 Palanzh | B891: PEX 3 2028G | C891: 694
A892: B 16100 Заглушка-пробка длинная 1/2 синяя 1шт | B892: B 16100 | C892: 0
A893: FS 1620F Поворотная клипса, 15шт пачка | B893: FS 1620F | C893: 0
A894: R 16100 Заглушка-пробка длинная 1/2 красная 1шт | B894: R 16100 | C894: 0
A895: Taker RT 1620 M ручной инструмент | B895: RT 1620 M | C895: 0
A896: Taker RT 1620 Т ручной инструмент, новый | B896: RT 1620Т | C896: 0
A897: WB 90003 Алюминиевый монтажный профиль WALLBOX в штангах 1м | B897: WB 90003 | C897: 0
A898: WB 90102 Угловое соединение | B898: WB 90102 | C898: 0
A899: WB 90103 Установочный элемент, базовый | B899: WB 90103 | C899: 0
... A979: Ключ для эксцентриков 3/4" 676G | B979: 676G | C979: 21150
A980: Ключ крестовой сантехнический 106 | B980: 106 | C980: 52256
A981: Ключ ступенчатый для американок до 1" 105 мм 673/105 | B981: 673/105 | C981: 19523
A982: Ключ ступенчатый для американок до3/4" 86 мм 673/86 | B982: 673/86 | C982: 17191
A983: Ключ цанговый арматурный 240 мм 689 | B983: 689/240 | C983: 47440
A984: Ключ цанговый арматурный 250 мм 689 | B984: 689/250 | C984: 47440
A985: Лезвия сменные к труборезу для пластик. трубы 20-50 мм 638-1G | B985: 638-1G | C985: 1085
A986: Паста уплотнительная сантехническая 70 гр PASTUM H2O 3821G | B986: 3821G | C986: 1735
A987: Приспособление для монтажа угловых вентилей 659 | B987: 659 | C987: 29490
A988: Сухой строительный маркер 2511G | B988: 2511G | C988: 4338
A989: Трещотка двухсторонняя (внутр.и внешн.квадрат 1/2") 129-3 | B989: 129-3 | C989: 46215
A990: Трещотка двухсторонняя (внутр.и внешн.квадрат 1/2") GI-tools 129-3G | B990: 129-3G | C990: 35792
A991: Труборез для пластик. трубы 20-50 мм 638G | B991: 638G | C991: 14642
A992: Труборез по нержавейке для труб 4-32мм (алюм./медь до 3,5мм, нерж.до 2мм) | B992: 33gtsr | C992: 14642
A993: Шаблон для монтажа инсталяции Light 284G | B993: 284G | C993: 3254
A994: Шпильковерт М10 Gl-tools 102/10G | B994: 102/10G | C994: 8135
A995: Шпильковерт М8 Gl-tools 102/8G | B995: 102/8G | C995: 8135
A996: Датчик протечки воды WSP (10 м) | B996: 40100113 | C996: 15076
A997: Датчик протечки воды WSP (20 м) | B997: 40100114 | C997: 21150
A998: Датчик протечки воды WSP (3 м) | B998: 40100111 | C998: 10304
A999: Датчик протечки воды WSP (5 м) | B999: 40100112 | C999: 12148
A1000: Датчик протечки воды WSR белый | B1000: 40600210 | C1000: 40564
A1001: Комплект Gidrolock Premium BUGATTI 1/2" | B1001: 31201021 | C1001: 322235
A1002: Комплект Gidrolock Premium BUGATTI 3/4" | B1002: 31201022 | C1002: 343927
A1003: Комплект Gidrolock Premium G-Lock 1/2" | B1003: 31201061 | C1003: 273862
A1004: Комплект Gidrolock Premium G-Lock 3/4" | B1004: 31201062 | C1004: 288504
A1005: Комплект Gidrolock STANDARD Wi-Fi G-Lock 1/2" | B1005: 32101061 | C1005: 310521
A1006: Комплект Gidrolock STANDARD Wi-Fi G-Lock 3/4" | B1006: 32101062 | C1006: 319198
A1007: Комплект Gidrоlock Premium RADIO BUGATTI 1/2" | B1007: 31101021 | C1007: 429285
... A1012: ШЭП ULTIMATE 220V G-LOCK 3/4" BS | B1012: 11092062 | C1012: 90889
A1013: Американка прямая 1/2 АП15.00 никель | B1013: БАЗ.АП.15.Н | C1013: 1352
A1014: Американка прямая 3/4 АП20.00 Никель | B1014: БАЗ.АП.20.Н | C1014: 2096
A1015: Заглушка 1 1/4В З 32В никель | B1015: БАЗ.З.32В.Н | C1015: 1307
A1016: Заглушка 1/2В З 15В никель | B1016: БАЗ.З.15В.Н | C1016: 396
A1017: Заглушка 1/2Н З 15Н никель | B1017: БАЗ.З.15Н.Н | C1017: 390
A1018: Заглушка 1В З 25В никель | B1018: БАЗ.З.25В.Н | C1018: 757
A1019: Заглушка 1Н З 25Н никель | B1019: БАЗ.З.25Н.Н | C1019: 850
A1020: Заглушка 3/4В З 20В никель | B1020: БАЗ.З.20В.Н | C1020: 517
A1021: Заглушка 3/4Н З 20Н никель | B1021: БАЗ.З.20Н.Н | C1021: 528
A1022: Кран шаровой "американка" Ду15 А31/1 прямой бабочка никель PN40 | B1022: БАЗ.А.А31.1.15.НГ.40.Н | C1022: 3670
A1023: Кран шаровой "американка" Ду20 А31/1 прямой бабочка никель PN40 | B1023: БАЗ.А.А31.1.20.НГ.40.Н | C1023: 5511
A1024: Кран шаровой "американка" Ду25 А31 прямой рычаг никель PN40 | B1024: БАЗ.А.А31.0.25.НГ.40.Н | C1024: 8788
... A1117: Шина фиксирующая 0,5м d 16-20 мм 100 шт/кор | B1117: ML-616 | C1117: 530

Sheet ППР
A2: Прайс-лист
A4: ТОО "Контур Азия"
A6: Ценовая группа/ Номенклатура/ Характеристика номенклатуры | B6: Артикул | C6: Розница | E6: Ваша скидка
C7: Цена | D7: Ед.
A8: Полипропилен | E8: 0
A10: PPR Коллектор со встр. расх D32-3/4*3 | B10: 67090032203 | C10: =VLOOKUP(B10,Лист4!$B$2:$G$592,6,0) -> 26053 | D10: =VLOOKUP(B10,Лист4!$B$2:$H$592,7,0) -> шт | E10: =C10-C10*$E$8 -> 26053
A11: PPR Коллектор со встр. расх D32-3/4*4 | B11: 67090032204 | C11: =VLOOKUP(B11,Лист4!$B$2:$G$592,6,0) -> 31942 | D11: =VLOOKUP(B11,Лист4!$B$2:$H$592,7,0) -> шт | E11: =C11-C11*$E$8 -> 31942
A12: PPR Вентиль D20 КОНТУР | B12: 11121020000 | C12: =VLOOKUP(B12,Лист4!$B$2:$G$592,6,0) -> 3204 | D12: =VLOOKUP(B12,Лист4!$B$2:$H$592,7,0) -> шт | E12: =C12-C12*$E$8 -> 3204
A13: PPR Вентиль D25 КОНТУР | B13: 11121025000 | C13: =VLOOKUP(B13,Лист4!$B$2:$G$592,6,0) -> 4086 | D13: =VLOOKUP(B13,Лист4!$B$2:$H$592,7,0) -> шт | E13: =C13-C13*$E$8 -> 4086
A14: PPR Вентиль D32 КОНТУР | B14: 11121032000 | C14: =VLOOKUP(B14,Лист4!$B$2:$G$592,6,0) -> 6259 | D14: =VLOOKUP(B14,Лист4!$B$2:$H$592,7,0) -> шт | E14: =C14-C14*$E$8 -> 6259
A15: PPR Вентиль радиаторный прямой НР D20-1/2 КОНТУР | B15: 11123020100 | C15: =VLOOKUP(B15,Лист4!$B$2:$G$592,6,0) -> 4295 | D15: =VLOOKUP(B15,Лист4!$B$2:$H$592,7,0) -> шт | E15: =C15-C15*$E$8 -> 4295
A16: PPR Вентиль радиаторный прямой НР D25-3/4 КОНТУР | B16: 11123025200 | C16: =VLOOKUP(B16,Лист4!$B$2:$G$592,6,0) -> 5655 | D16: =VLOOKUP(B16,Лист4!$B$2:$H$592,7,0) -> шт | E16: =C16-C16*$E$8 -> 5655
A17: PPR Вентиль радиаторный угловой НР D20-1/2 КОНТУР | B17: 11125020100 | C17: =VLOOKUP(B17,Лист4!$B$2:$G$592,6,0) -> 4219 | D17: =VLOOKUP(B17,Лист4!$B$2:$H$592,7,0) -> шт | E17: =C17-C17*$E$8 -> 4219
A18: PPR Вентиль радиаторный угловой НР D25-3/4 КОНТУР | B18: 11125025200 | C18: =VLOOKUP(B18,Лист4!$B$2:$G$592,6,0) -> 5811 | D18: =VLOOKUP(B18,Лист4!$B$2:$H$592,7,0) -> шт | E18: =C18-C18*$E$8 -> 5811
A19: PPR Клапан обратный D20 | B19: 11141020010 | C19: =VLOOKUP(B19,Лист4!$B$2:$G$592,6,0) -> 932 | D19: =VLOOKUP(B19,Лист4!$B$2:$H$592,7,0) -> шт | E19: =C19-C19*$E$8 -> 932
A20: PPR Клапан обратный D25 | B20: 11141025010 | C20: =VLOOKUP(B20,Лист4!$B$2:$G$592,6,0) -> 1006 | D20: =VLOOKUP(B20,Лист4!$B$2:$H$592,7,0) -> шт | E20: =C20-C20*$E$8 -> 1006
A21: PPR Клапан обратный D32 КОНТУР | B21: 11141032010 | C21: =VLOOKUP(B21,Лист4!$B$2:$G$592,6,0) -> 1366 | D21: =VLOOKUP(B21,Лист4!$B$2:$H$592,7,0) -> шт | E21: =C21-C21*$E$8 -> 1366
... A310: PPR Угольник с накид. гайкой и латун. втулкой ВР D20-1/2 КОНТУР | B310: 114128020100 | C310: =VLOOKUP(B310,Лист4!$B$2:$G$592,6,0) -> #N/A | D310: =VLOOKUP(B310,Лист4!$B$2:$H$592,7,0) -> #N/A | E310: =C310-C310*$E$8 -> #N/A

Sheet Лист2
A1: PE-RT тип I труба тёплый пол D16х2,0 КОНТУР 100м | B1: 60100016000 | C1: 316
A2: PE-RT тип I труба тёплый пол D16х2,0 КОНТУР 200м | B2: 60100016200 | C2: 316
A3: PE-RT тип I труба тёплый пол D16х2,0 КОНТУР 500м | B3: 60100016500 | C3: 316
A4: PE-RT тип I труба тёплый пол D20х2,0 КОНТУР 200м | B4: 60100020200 | C4: 428
A5: PE-RT тип I труба тёплый пол с антидиффузионным слоем EVOH D16х2,0 КОНТУР 200м | B5: 60400016200 | C5: 689
A6: PE-RT тип II труба D25х3,5 G-RAY КОНТУР 50м | B6: 60200025000 | C6: 1213
A7: PE-RT тип II труба с антидиффузионным слоем EVOH D16х2,2 G-RAY OXY КОНТУР 100м | B7: 60300016001 | C7: 534
A8: PE-RT тип II труба с антидиффузионным слоем EVOH D16х2,2 G-RAY OXY КОНТУР 150м | B8: 60300016000 | C8: 534
A9: PE-RT тип II труба с антидиффузионным слоем EVOH D32х4,4 G-RAY OXY КОНТУР 50м | B9: 60300032000 | C9: 2218
A10: PE-Xa труба с антидиффузионным слоем EVOH D16х2,2 G-RAY OXY КОНТУР 150м | B10: 60500016100 | C10: 658
A11: PE-Xa труба с антидиффузионным слоем EVOH D16х2,2 G-RAY OXY КОНТУР 200м | B11: 60500016200 | C11: 692
A12: PE-Xa труба с антидиффузионным слоем EVOH D20х2,8 G-RAY OXY КОНТУР 100м | B12: 60500020100 | C12: 1105
... A886: Чехол теплоизоляционный Север-М6 | B886: 1965071 | C886: 50154
A887: PERT 5A 1620W Труба Pert-Al-Pert 16,0 х 2,0 Palanzh | B887: PERT 5A 1620W | C887: 663
A888: PERT 5A 2020W Труба Pert-Al-Pert 20,0 х 2,0 Palanzh | B888: PERT 5A 2020W | C888: 922
A889: PEX 3 1622G Труба PE-X/EVOH 16,0 х 2,2 Palanzh | B889: PEX 3 1622G | C889: 608
A890: PEX 3 2028G Труба PE-X/EVOH 20,0 х 2,8 Palanzh | B890: PEX 3 2028G | C890: 916
A891: B 16100 Заглушка-пробка длинная 1/2 синяя 1шт | B891: B 16100 | C891: 0
A892: FS 1620F Поворотная клипса, 15шт пачка | B892: FS 1620F | C892: 0
A893: R 16100 Заглушка-пробка длинная 1/2 красная 1шт | B893: R 16100 | C893: 0
A894: Taker RT 1620 M ручной инструмент | B894: RT 1620 M | C894: 0
A895: Taker RT 1620 Т ручной инструмент, новый | B895: RT 1620Т | C895: 0
A896: WB 90003 Алюминиевый монтажный профиль WALLBOX в штангах 1м | B896: WB 90003 | C896: 0
A897: WB 90102 Угловое соединение | B897: WB 90102 | C897: 0
A898: WB 90103 Установочный элемент, базовый | B898: WB 90103 | C898: 0
... A978: Ключ для эксцентриков 3/4" 676G | B978: 676G | C978: 27918
A979: Ключ крестовой сантехнический 106 | B979: 106 | C979: 68978
A980: Ключ ступенчатый для американок до 1" 105 мм 673/105 | B980: 673/105 | C980: 25770
A981: Ключ ступенчатый для американок до3/4" 86 мм 673/86 | B981: 673/86 | C981: 22692
A982: Ключ цанговый арматурный 240 мм 689 | B982: 689/240 | C982: 62621
A983: Ключ цанговый арматурный 250 мм 689 | B983: 689/250 | C983: 62621
A984: Лезвия сменные к труборезу для пластик. трубы 20-50 мм 638-1G | B984: 638-1G | C984: 1432
A985: Паста уплотнительная сантехническая 70 гр PASTUM H2O 3821G | B985: 3821G | C985: 2291
A986: Приспособление для монтажа угловых вентилей 659 | B986: 659 | C986: 38927
A987: Сухой строительный маркер 2511G | B987: 2511G | C987: 5727
A988: Трещотка двухсторонняя (внутр.и внешн.квадрат 1/2") 129-3 | B988: 129-3 | C988: 61004
A989: Трещотка двухсторонняя (внутр.и внешн.квадрат 1/2") GI-tools 129-3G | B989: 129-3G | C989: 47245
A990: Труборез для пластик. трубы 20-50 мм 638G | B990: 638G | C990: 19328
A991: Труборез по нержавейке для труб 4-32мм (алюм./медь до 3,5мм, нерж.до 2мм) | B991: 33gtsr | C991: 19328
A992: Шаблон для монтажа инсталяции Light 284G | B992: 284G | C992: 4295
A993: Шпильковерт М10 Gl-tools 102/10G | B993: 102/10G | C993: 10738
A994: Шпильковерт М8 Gl-tools 102/8G | B994: 102/8G | C994: 10738
A995: Датчик протечки воды WSP (10 м) | B995: 40100113 | C995: 19900
A996: Датчик протечки воды WSP (20 м) | B996: 40100114 | C996: 27918
A997: Датчик протечки воды WSP (3 м) | B997: 40100111 | C997: 13601
A998: Датчик протечки воды WSP (5 м) | B998: 40100112 | C998: 16035
A999: Датчик протечки воды WSR белый | B999: 40600210 | C999: 53545
A1000: Комплект Gidrolock Premium BUGATTI 1/2" | B1000: 31201021 | C1000: 425350
A1001: Комплект Gidrolock Premium BUGATTI 3/4" | B1001: 31201022 | C1001: 453983
A1002: Комплект Gidrolock Premium G-Lock 1/2" | B1002: 31201061 | C1002: 361497
A1003: Комплект Gidrolock Premium G-Lock 3/4" | B1003: 31201062 | C1003: 380825
A1004: Комплект Gidrolock STANDARD Wi-Fi G-Lock 1/2" | B1004: 32101061 | C1004: 409888
A1005: Комплект Gidrolock STANDARD Wi-Fi G-Lock 3/4" | B1005: 32101062 | C1005: 421341
A1006: Комплект Gidrоlock Premium RADIO BUGATTI 1/2" | B1006: 31101021 | C1006: 566656
... A1011: ШЭП ULTIMATE 220V G-LOCK 3/4" BS | B1011: 11092062 | C1011: 119974
A1012: Американка прямая 1/2 АП15.00 никель | B1012: БАЗ.АП.15.Н | C1012: 1785
A1013: Американка прямая 3/4 АП20.00 Никель | B1013: БАЗ.АП.20.Н | C1013: 2767
A1014: Заглушка 1 1/4В З 32В никель | B1014: БАЗ.З.32В.Н | C1014: 1726
A1015: Заглушка 1/2В З 15В никель | B1015: БАЗ.З.15В.Н | C1015: 522
A1016: Заглушка 1/2Н З 15Н никель | B1016: БАЗ.З.15Н.Н | C1016: 515
A1017: Заглушка 1В З 25В никель | B1017: БАЗ.З.25В.Н | C1017: 1000
A1018: Заглушка 1Н З 25Н никель | B1018: БАЗ.З.25Н.Н | C1018: 1122
A1019: Заглушка 3/4В З 20В никель | B1019: БАЗ.З.20В.Н | C1019: 682
A1020: Заглушка 3/4Н З 20Н никель | B1020: БАЗ.З.20Н.Н | C1020: 697
A1021: Кран шаровой "американка" Ду15 А31/1 прямой бабочка никель PN40 | B1021: БАЗ.А.А31.1.15.НГ.40.Н | C1021: 4844
A1022: Кран шаровой "американка" Ду20 А31/1 прямой бабочка никель PN40 | B1022: БАЗ.А.А31.1.20.НГ.40.Н | C1022: 7274
A1023: Кран шаровой "американка" Ду25 А31 прямой рычаг никель PN40 | B1023: БАЗ.А.А31.0.25.НГ.40.Н | C1023: 11601
... A1116: Шина фиксирующая 0,5м d 16-20 мм 100 шт/кор | B1116: ML-616 | C1116: 699

Sheet Стандарт
A2: Прайс-лист
A4: ТОО "Контур Азия"
A6: Ценовая группа/ Номенклатура/ Характеристика номенклатуры | B6: Артикул | C6: Розница | E6: Ваша скидка
C7: Цена | D7: Ед. | E7: 0
A8: Канализация внутренняя СТАНДАРТ Контур
A9: PP Аэратор D110 СТАНДАРТ | B9: 72201110000 | C9: =VLOOKUP(B9,Лист4!$B$2:$G$592,6,0) -> 2375 | D9: =VLOOKUP(B9,Лист4!$B$2:$H$592,7,0) -> шт | E9: =C9-C9*$E$7 -> 2375
A10: PP Аэратор D50 СТАНДАРТ | B10: 72201050000 | C10: =VLOOKUP(B10,Лист4!$B$2:$G$592,6,0) -> 1146 | D10: =VLOOKUP(B10,Лист4!$B$2:$H$592,7,0) -> шт | E10: =C10-C10*$E$7 -> 1146
A11: PP Заглушка D32 СТАНДАРТ КОНТУР | B11: 72906032010 | C11: =VLOOKUP(B11,Лист4!$B$2:$G$592,6,0) -> 142 | D11: =VLOOKUP(B11,Лист4!$B$2:$H$592,7,0) -> шт | E11: =C11-C11*$E$7 -> 142
A12: PP Заглушка D50 СТАНДАРТ КОНТУР | B12: 72906050000 | C12: =VLOOKUP(B12,Лист4!$B$2:$G$592,6,0) -> 109 | D12: =VLOOKUP(B12,Лист4!$B$2:$H$592,7,0) -> шт | E12: =C12-C12*$E$7 -> 109
A13: PP Заглушка кан. D110 СТАНДАРТ КОНТУР | B13: 72906110000 | C13: =VLOOKUP(B13,Лист4!$B$2:$G$592,6,0) -> 230 | D13: =VLOOKUP(B13,Лист4!$B$2:$H$592,7,0) -> шт | E13: =C13-C13*$E$7 -> 230
A14: PP Заглушка кан. D40 СТАНДАРТ | B14: 72906040010 | C14: =VLOOKUP(B14,Лист4!$B$2:$G$592,6,0) -> 151 | D14: =VLOOKUP(B14,Лист4!$B$2:$H$592,7,0) -> шт | E14: =C14-C14*$E$7 -> 151
A15: PP Зонт вентиляционный D110 СТАНДАРТ КОНТУР | B15: 72907110010 | C15: =VLOOKUP(B15,Лист4!$B$2:$G$592,6,0) -> 928 | D15: =VLOOKUP(B15,Лист4!$B$2:$H$592,7,0) -> шт | E15: =C15-C15*$E$7 -> 928
A16: PP Зонт вентиляционный D50 СТАНДАРТ КОНТУР | B16: 72907050010 | C16: =VLOOKUP(B16,Лист4!$B$2:$G$592,6,0) -> 558 | D16: =VLOOKUP(B16,Лист4!$B$2:$H$592,7,0) -> шт | E16: =C16-C16*$E$7 -> 558
A17: PP Клапан обратный D110 СТАНДАРТ | B17: 72908110012 | C17: =VLOOKUP(B17,Лист4!$B$2:$G$592,6,0) -> 21317 | D17: =VLOOKUP(B17,Лист4!$B$2:$H$592,7,0) -> шт | E17: =C17-C17*$E$7 -> 21317
A18: PP Клапан обратный D50 СТАНДАРТ | B18: 72908050010 | C18: =VLOOKUP(B18,Лист4!$B$2:$G$592,6,0) -> 12517 | D18: =VLOOKUP(B18,Лист4!$B$2:$H$592,7,0) -> шт | E18: =C18-C18*$E$7 -> 12517
A19: PP Крестовина двухпл. кан. D110х110х110/90 СТАНДАРТ | B19: 72602110502 | C19: =VLOOKUP(B19,Лист4!$B$2:$G$592,6,0) -> 2755 | D19: =VLOOKUP(B19,Лист4!$B$2:$H$592,7,0) -> шт | E19: =C19-C19*$E$7 -> 2755
A20: PP Крестовина двухпл. лев. кан. D110х110х50/90 СТАНДАРТ Контур | B20: 72602110503 | C20: =VLOOKUP(B20,Лист4!$B$2:$G$592,6,0) -> 2513 | D20: =VLOOKUP(B20,Лист4!$B$2:$H$592,7,0) -> шт | E20: =C20-C20*$E$7 -> 2513
... A114: Смазка силиконовая ТМ Контур, туба, 250мл | B114: 99200000010 | C114: =VLOOKUP(B114,Лист4!$B$2:$G$592,6,0) -> 2342 | D114: =VLOOKUP(B114,Лист4!$B$2:$H$592,7,0) -> шт | E114: =C114-C114*$E$7 -> 2342

Sheet Оранж
A2: Прайс-лист
A4: ТОО "Контур Азия"
A6: Ценовая группа/ Номенклатура/ Характеристика номенклатуры | B6: Артикул | C6: Розница | E6: Ваша скидка
C7: Цена | D7: Ед. | E7: 0
A8: Канализация наружная ОРАНЖ Контур
A9: PP Заглушка кан. D160 ОРАНЖ | B9: 78906160010 | C9: =VLOOKUP(B9,Лист4!$B$2:$G$592,6,0) -> 1250 | D9: =VLOOKUP(B9,Лист4!$B$2:$H$592,7,0) -> шт | E9: =C9-C9*$E$7 -> 1250
A10: PP Клапан обратный D160 ОРАНЖ | B10: 78908160012 | C10: =VLOOKUP(B10,Лист4!$B$2:$G$592,6,0) -> 53532 | D10: =VLOOKUP(B10,Лист4!$B$2:$H$592,7,0) -> шт | E10: =C10-C10*$E$7 -> 53532
A11: PP Муфта двухраструбная кан. D160 ОРАНЖ КОНТУР | B11: 78301160010 | C11: =VLOOKUP(B11,Лист4!$B$2:$G$592,6,0) -> 2875 | D11: =VLOOKUP(B11,Лист4!$B$2:$H$592,7,0) -> шт | E11: =C11-C11*$E$7 -> 2875
A12: PP Муфта ремонтная кан. D160 ОРАНЖ | B12: 78302160010 | C12: =VLOOKUP(B12,Лист4!$B$2:$G$592,6,0) -> 3187 | D12: =VLOOKUP(B12,Лист4!$B$2:$H$592,7,0) -> шт | E12: =C12-C12*$E$7 -> 3187
A13: PP Отвод кан. D160*30 ОРАНЖ КОНТУР | B13: 78400160210 | C13: =VLOOKUP(B13,Лист4!$B$2:$G$592,6,0) -> 3951 | D13: =VLOOKUP(B13,Лист4!$B$2:$H$592,7,0) -> шт | E13: =C13-C13*$E$7 -> 3951
A14: PP Отвод кан. D160х45 ОРАНЖ | B14: 78400160300 | C14: =VLOOKUP(B14,Лист4!$B$2:$G$592,6,0) -> 2717 | D14: =VLOOKUP(B14,Лист4!$B$2:$H$592,7,0) -> шт | E14: =C14-C14*$E$7 -> 2717
A15: PP Отвод кан. D160х90 ОРАНЖ | B15: 78400160510 | C15: =VLOOKUP(B15,Лист4!$B$2:$G$592,6,0) -> 4922 | D15: =VLOOKUP(B15,Лист4!$B$2:$H$592,7,0) -> шт | E15: =C15-C15*$E$7 -> 4922
A16: PP Отвод кан.D160*15 ОРАНЖ | B16: 78400160110 | C16: =VLOOKUP(B16,Лист4!$B$2:$G$592,6,0) -> 3713 | D16: =VLOOKUP(B16,Лист4!$B$2:$H$592,7,0) -> шт | E16: =C16-C16*$E$7 -> 3713
A17: PP Переход эксцентрический кан. D160/110 ОРАНЖ | B17: 78303160100 | C17: =VLOOKUP(B17,Лист4!$B$2:$G$592,6,0) -> 2038 | D17: =VLOOKUP(B17,Лист4!$B$2:$H$592,7,0) -> шт | E17: =C17-C17*$E$7 -> 2038
A18: PP Ревизия кан. D160 ОРАНЖ | B18: 78901160010 | C18: =VLOOKUP(B18,Лист4!$B$2:$G$592,6,0) -> 10076 | D18: =VLOOKUP(B18,Лист4!$B$2:$H$592,7,0) -> шт | E18: =C18-C18*$E$7 -> 10076
A19: PP Тройник кан. D160*110/45 ОРАНЖ | B19: 78505160300 | C19: =VLOOKUP(B19,Лист4!$B$2:$G$592,6,0) -> 4998 | D19: =VLOOKUP(B19,Лист4!$B$2:$H$592,7,0) -> шт | E19: =C19-C19*$E$7 -> 4998
A20: PP Тройник кан. D160*110/90 ОРАНЖ КОНТУР | B20: 78505160510 | C20: =VLOOKUP(B20,Лист4!$B$2:$G$592,6,0) -> 7299 | D20: =VLOOKUP(B20,Лист4!$B$2:$H$592,7,0) -> шт | E20: =C20-C20*$E$7 -> 7299
... A43: PP Труба кан. D110*5000 ОРАНЖ КОНТУР | B43: 77270110900 | C43: =VLOOKUP(B43,Лист4!$B$2:$G$592,6,0) -> 15158 | D43: =VLOOKUP(B43,Лист4!$B$2:$H$592,7,0) -> м | E43: =C43-C43*$E$7 -> 15158

Sheet УЮТ
A2: Прайс-лист
A4: ТОО "Контур Азия"
A6: Ценовая группа/ Номенклатура/ Характеристика номенклатуры | B6: Артикул | C6: Розница | E6: Ваша скидка
C7: Цена | D7: Ед. | E7: 0
A8: Канализация малошумная УЮТ Контур
A9: PP Заглушка D110 УЮТ КОНТУР | B9: 74906110000 | C9: =VLOOKUP(B9,Лист4!$B$2:$G$592,6,0) -> 335 | D9: =VLOOKUP(B9,Лист4!$B$2:$H$592,7,0) -> шт | E9: =C9-C9*$E$7 -> 335
A10: PP Заглушка D50 УЮТ КОНТУР | B10: 74906050000 | C10: =VLOOKUP(B10,Лист4!$B$2:$G$592,6,0) -> 172 | D10: =VLOOKUP(B10,Лист4!$B$2:$H$592,7,0) -> шт | E10: =C10-C10*$E$7 -> 172
A11: PP Крестовина канализационная двухплоскостная D110*110*110/90 УЮТ КОНТУР | B11: 74601110501 | C11: =VLOOKUP(B11,Лист4!$B$2:$G$592,6,0) -> 3276 | D11: =VLOOKUP(B11,Лист4!$B$2:$H$592,7,0) -> шт | E11: =C11-C11*$E$7 -> 3276
A12: PP Крестовина канализационная двухплоскостная левая D110*110*50/90 УЮТ КОНТУР | B12: 74601110502 | C12: =VLOOKUP(B12,Лист4!$B$2:$G$592,6,0) -> 3251 | D12: =VLOOKUP(B12,Лист4!$B$2:$H$592,7,0) -> шт | E12: =C12-C12*$E$7 -> 3251
A13: PP Крестовина канализационная двухплоскостная правая D110*110*50/90 УЮТ КОНТУР | B13: 74601110503 | C13: =VLOOKUP(B13,Лист4!$B$2:$G$592,6,0) -> 3251 | D13: =VLOOKUP(B13,Лист4!$B$2:$H$592,7,0) -> шт | E13: =C13-C13*$E$7 -> 3251
A14: PP Крестовина канализационная одноплоскостная D110*110*110/90 УЮТ | B14: 74601110500 | C14: =VLOOKUP(B14,Лист4!$B$2:$G$592,6,0) -> 3377 | D14: =VLOOKUP(B14,Лист4!$B$2:$H$592,7,0) -> шт | E14: =C14-C14*$E$7 -> 3377
A15: PP Крестовина канализационная одноплоскостная D110*110*50/90 УЮТ КОНТУР | B15: 74602110500 | C15: =VLOOKUP(B15,Лист4!$B$2:$G$592,6,0) -> 2940 | D15: =VLOOKUP(B15,Лист4!$B$2:$H$592,7,0) -> м | E15: =C15-C15*$E$7 -> 2940
A16: PP Крестовина канализационная одноплоскостная D110*50*50/45 УЮТ КОНТУР | B16: 74603110300 | C16: =VLOOKUP(B16,Лист4!$B$2:$G$592,6,0) -> 2514 | D16: =VLOOKUP(B16,Лист4!$B$2:$H$592,7,0) -> шт | E16: =C16-C16*$E$7 -> 2514
A17: PP Крестовина канализационная одноплоскостная D110*50*50/90 УЮТ КОНТУР | B17: 74603110500 | C17: =VLOOKUP(B17,Лист4!$B$2:$G$592,6,0) -> 2940 | D17: =VLOOKUP(B17,Лист4!$B$2:$H$592,7,0) -> м | E17: =C17-C17*$E$7 -> 2940
A18: PP крестовина одноплоскостная канализационная малошумная D110х110х110/45° УЮТ | B18: 72601110303 | C18: =VLOOKUP(B18,Лист4!$B$2:$G$592,6,0) -> 3247 | D18: =VLOOKUP(B18,Лист4!$B$2:$H$592,7,0) -> шт | E18: =C18-C18*$E$7 -> 3247
A19: PP Муфта двухраструбная канализационная D110 УЮТ КОНТУР | B19: 74301110000 | C19: =VLOOKUP(B19,Лист4!$B$2:$G$592,6,0) -> 905 | D19: =VLOOKUP(B19,Лист4!$B$2:$H$592,7,0) -> м | E19: =C19-C19*$E$7 -> 905
A20: PP Муфта двухраструбная канализационная D50 УЮТ КОНТУР | B20: 74301050000 | C20: =VLOOKUP(B20,Лист4!$B$2:$G$592,6,0) -> 450 | D20: =VLOOKUP(B20,Лист4!$B$2:$H$592,7,0) -> м | E20: =C20-C20*$E$7 -> 450
... A55: РР Хомут с защелкой кан. D50 УЮТ КОНТУР | B55: 74909050000 | C55: =VLOOKUP(B55,Лист4!$B$2:$G$592,6,0) -> 113 | D55: =VLOOKUP(B55,Лист4!$B$2:$H$592,7,0) -> шт | E55: =C55-C55*$E$7 -> 113

Sheet Теплый пол
A2: Прайс-лист
A4: ТОО "Контур Азия"
A6: Ценовая группа/ Номенклатура/ Характеристика номенклатуры | B6: Артикул | C6: Розница | E6: Ваша скидка
C7: Цена | D7: Ед. | E7: 0
A8: Теплый пол
A9: PE-RT тип II труба D25х3,5 G-RAY КОНТУР 50м | B9: 60200025000 | C9: =VLOOKUP(B9,Лист4!$B$2:$G$592,6,0) -> 1129 | D9: м | E9: =C9-C9*$E$7 -> 1129
A10: PE-RT тип II труба с антидиффузионным слоем EVOH D16х2,2 G-RAY OXY КОНТУР 100м | B10: 60300016001 | C10: =VLOOKUP(B10,Лист4!$B$2:$G$592,6,0) -> 486 | D10: м | E10: =C10-C10*$E$7 -> 486
A11: PE-RT тип II труба с антидиффузионным слоем EVOH D16х2,2 G-RAY OXY КОНТУР 150м | B11: 60300016000 | C11: =VLOOKUP(B11,Лист4!$B$2:$G$592,6,0) -> 429 | D11: м | E11: =C11-C11*$E$7 -> 429
A12: PE-RT тип II труба с антидиффузионным слоем EVOH D32х4,4 G-RAY OXY КОНТУР 50м | B12: 60300032000 | C12: =VLOOKUP(B12,Лист4!$B$2:$G$592,6,0) -> 1586 | D12: м | E12: =C12-C12*$E$7 -> 1586
A13: PERT Труба D16*2.2 G-RAY 150м КОНТУР | B13: 60200016100 | C13: =VLOOKUP(B13,Лист4!$B$2:$G$592,6,0) -> 429 | D13: м | E13: =C13-C13*$E$7 -> 429
A14: PERT Труба D20*2.8 G-RAY 100м КОНТУР | B14: 60200020000 | C14: =VLOOKUP(B14,Лист4!$B$2:$G$592,6,0) -> 609 | D14: м | E14: =C14-C14*$E$7 -> 609
A15: PERT-EVOH-PERT Труба D20*2.8 G-RAY OXY 100м КОНУТР | B15: 60300020000 | C15: =VLOOKUP(B15,Лист4!$B$2:$G$592,6,0) -> 762 | D15: м | E15: =C15-C15*$E$7 -> 762
A16: PERT-EVOH-PERT Труба D25*3,5 G-RAY OXY 50м КОНТУР | B16: 60300025000 | C16: =VLOOKUP(B16,Лист4!$B$2:$G$592,6,0) -> 1014 | D16: м | E16: =C16-C16*$E$7 -> 1014
A17: PE-Xa труба с антидиффузионным слоем EVOH D16х2,2 G-RAY OXY КОНТУР 100м | B17: 60500016000 | C17: =VLOOKUP(B17,Лист4!$B$2:$G$592,6,0) -> 534 | D17: м | E17: =C17-C17*$E$7 -> 534
A18: PE-Xa труба с антидиффузионным слоем EVOH D16х2,2 G-RAY OXY КОНТУР 150м | B18: 60500016100 | C18: =VLOOKUP(B18,Лист4!$B$2:$G$592,6,0) -> 461 | D18: м | E18: =C18-C18*$E$7 -> 461
A19: PE-Xa труба с антидиффузионным слоем EVOH D16х2,2 G-RAY OXY КОНТУР 200м | B19: 60500016200 | C19: =VLOOKUP(B19,Лист4!$B$2:$G$592,6,0) -> 486 | D19: м | E19: =C19-C19*$E$7 -> 486
A20: PE-Xa труба с антидиффузионным слоем EVOH D20х2,8 G-RAY OXY КОНТУР 100м | B20: 60500020100 | C20: =VLOOKUP(B20,Лист4!$B$2:$G$592,6,0) -> 762 | D20: м | E20: =C20-C20*$E$7 -> 762
... A22: PE-Xa труба с антидиффузионным слоем EVOH D32х4,4 G-RAY OXY КОНТУР 50м | B22: 60500032500 | C22: =VLOOKUP(B22,Лист4!$B$2:$G$592,6,0) -> 2251 | D22: м | E22: =C22-C22*$E$7 -> 2251

Sheet Gray
A2: Прайс-лист
A4: ТОО "Контур Азия"
A6: Ценовая группа/ Номенклатура/ Характеристика номенклатуры | B6: Артикул | C6: Розница | E6: Ваша скидка
C7: Цена | D7: Ед. | E7: 0
A8: Грей
A9: Гильза аксиальная PVDF надвижная D20 (2,8) КОНТУР | B9: 62610020200 | C9: =VLOOKUP(B9,Лист4!$B$2:$G$592,6,0) -> 374 | D9: =VLOOKUP(B9,Лист4!$B$2:$H$592,7,0) -> м | E9: =C9-C9*$E$7 -> 374
A10: Гильза надвижная для PERT D25(3.5) КОНТУР | B10: 61610025310 | C10: =VLOOKUP(B10,Лист4!$B$2:$G$592,6,0) -> 781 | D10: =VLOOKUP(B10,Лист4!$B$2:$H$592,7,0) -> м | E10: =C10-C10*$E$7 -> 781
A11: Гильза надвижная для PERT D32(4.4) КОНТУР | B11: 61610032410 | C11: =VLOOKUP(B11,Лист4!$B$2:$G$592,6,0) -> 2234 | D11: =VLOOKUP(B11,Лист4!$B$2:$H$592,7,0) -> шт | E11: =C11-C11*$E$7 -> 2234
A12: Гильза надвижная для PERT D16 (2.2) КОНТУР | B12: 6202016011 | C12: =VLOOKUP(B12,Лист4!$B$2:$G$592,6,0) -> 325 | D12: =VLOOKUP(B12,Лист4!$B$2:$H$592,7,0) -> м | E12: =C12-C12*$E$7 -> 325
A13: Гильза надвижная для PERT D20 (2.8) КОНТУР | B13: 6202020010 | C13: =VLOOKUP(B13,Лист4!$B$2:$G$592,6,0) -> 470 | D13: =VLOOKUP(B13,Лист4!$B$2:$H$592,7,0) -> м | E13: =C13-C13*$E$7 -> 470
A14: Комплект гидравлический "Пресс-тиски" для надвижных гильз 16-32 мм | B14: 68207016321 | C14: =VLOOKUP(B14,Лист4!$B$2:$G$592,6,0) -> 222586 | D14: =VLOOKUP(B14,Лист4!$B$2:$H$592,7,0) -> м | E14: =C14-C14*$E$7 -> 222586
A15: Концовка евроконус 16*(2,2) 3/4 | B15: 61691016111 | C15: =VLOOKUP(B15,Лист4!$B$2:$G$592,6,0) -> 1532 | D15: =VLOOKUP(B15,Лист4!$B$2:$H$592,7,0) -> шт | E15: =C15-C15*$E$7 -> 1532
A16: Концовка евроконус 20*(2,8) 3/4 | B16: 61691020212 | C16: =VLOOKUP(B16,Лист4!$B$2:$G$592,6,0) -> 1885 | D16: =VLOOKUP(B16,Лист4!$B$2:$H$592,7,0) -> шт | E16: =C16-C16*$E$7 -> 1885
A17: Муфта для PERT ВР16-1/2 (2,2) | B17: 6212016110 | C17: =VLOOKUP(B17,Лист4!$B$2:$G$592,6,0) -> 1218 | D17: =VLOOKUP(B17,Лист4!$B$2:$H$592,7,0) -> м | E17: =C17-C17*$E$7 -> 1218
A18: Муфта для PERT ВР16-3/4 (2,2) | B18: 61212016210 | C18: =VLOOKUP(B18,Лист4!$B$2:$G$592,6,0) -> 2330 | D18: =VLOOKUP(B18,Лист4!$B$2:$H$592,7,0) -> шт | E18: =C18-C18*$E$7 -> 2330
A19: Муфта для PERT ВР20-1/2 (2,8) | B19: 6212020110 | C19: =VLOOKUP(B19,Лист4!$B$2:$G$592,6,0) -> 1546 | D19: =VLOOKUP(B19,Лист4!$B$2:$H$592,7,0) -> м | E19: =C19-C19*$E$7 -> 1546
A20: Муфта для PERT ВР20-3/4 (2,8) | B20: 61212020210 | C20: =VLOOKUP(B20,Лист4!$B$2:$G$592,6,0) -> 2473 | D20: =VLOOKUP(B20,Лист4!$B$2:$H$592,7,0) -> шт | E20: =C20-C20*$E$7 -> 2473
... A76: Угольник для PERT соед. D32 (4,4) | B76: 61401032010 | C76: =VLOOKUP(B76,Лист4!$B$2:$G$592,6,0) -> 8568 | D76: =VLOOKUP(B76,Лист4!$B$2:$H$592,7,0) -> шт | E76: =C76-C76*$E$7 -> 8568

Sheet Ostendorf
A2: Прайс-лист
A4: ТОО "Контур Азия"
A6: Ценовая группа/ Номенклатура/ Характеристика номенклатуры | B6: Артикул | C6: Розница | E6: Ваша скидка
C7: Цена | D7: Ед. | E7: 0
A8: Остендорф Рус
A9: Труба для бесшум. канализации SKEM DN110x250 мм | B9: 335010 | C9: =VLOOKUP(B9,Лист4!$B$2:$G$2034,6,0) -> 5204 | D9: шт. | E9: =C9-C9*$E$7 -> 5204
A10: Труба для бесшум. канализации SKEM DN110x500 мм | B10: 335020 | C10: =VLOOKUP(B10,Лист4!$B$2:$G$2034,6,0) -> 7883 | D10: шт. | E10: =C10-C10*$E$7 -> 7883
A11: Труба для бесшум. канализации SKEM DN110x1000 мм | B11: 335040 | C11: =VLOOKUP(B11,Лист4!$B$2:$G$2034,6,0) -> 12426 | D11: шт. | E11: =C11-C11*$E$7 -> 12426
A12: Труба для бесшум. канализации SKEM DN110x2000 мм | B12: 335060 | C12: =VLOOKUP(B12,Лист4!$B$2:$G$2034,6,0) -> 23038 | D12: шт. | E12: =C12-C12*$E$7 -> 23038
A13: Труба для бесшум. канализации SKEM DN110x3000 мм | B13: 335070 | C13: =VLOOKUP(B13,Лист4!$B$2:$G$2034,6,0) -> 33058 | D13: шт. | E13: =C13-C13*$E$7 -> 33058
A14: Отвод для бесшум. канализации SKВ DN110х15° | B14: 335100 | C14: =VLOOKUP(B14,Лист4!$B$2:$G$2034,6,0) -> 5592 | D14: шт. | E14: =C14-C14*$E$7 -> 5592
A15: Ревизионная заглушка для бесшум. канализации SKMRE DN110 | B15: 335935 | C15: =VLOOKUP(B15,Лист4!$B$2:$G$2034,6,0) -> 3482 | D15: шт. | E15: =C15-C15*$E$7 -> 3482
A16: Тройник для бесшум. канализации SKEA-HT с выходом на внутр.канализ. DN90/50x87° | B16: 334430 | C16: =VLOOKUP(B16,Лист4!$B$2:$G$2034,6,0) -> 6696 | D16: шт. | E16: =C16-C16*$E$7 -> 6696
A17: Тройник для бесшум. канализации SKEA DN200/160х87° | B17: 338410 | C17: =VLOOKUP(B17,Лист4!$B$2:$G$2034,6,0) -> 57260 | D17: шт. | E17: =C17-C17*$E$7 -> 57260
A18: Отвод для бесшум. канализации SKВ DN200х87° | B18: 338150 | C18: =VLOOKUP(B18,Лист4!$B$2:$G$2034,6,0) -> 27298 | D18: шт. | E18: =C18-C18*$E$7 -> 27298
A19: Муфта двойная для бесшум. канализации SKMM DN200 | B19: 338510 | C19: =VLOOKUP(B19,Лист4!$B$2:$G$2034,6,0) -> 26006 | D19: шт. | E19: =C19-C19*$E$7 -> 26006
A20: Муфта ремонтная (надвижная) SKU200 | B20: 338500 | C20: =VLOOKUP(B20,Лист4!$B$2:$G$2034,6,0) -> 26006 | D20: шт. | E20: =C20-C20*$E$7 -> 26006
... A333: Труба ПП для наруж. канализации KG2000EM 110х2000 мм | B333: 770360 | C333: =VLOOKUP(B333,Лист4!$B$2:$G$2034,6,0) -> 13293 | D333: шт. | E333: =C333-C333*$E$7 -> 13293

Sheet Gidruss коллекторы
A2: Прайс-лист
A4: ТОО "Контур Азия"
A6: Ценовая группа/ Номенклатура/ Характеристика номенклатуры | B6: Артикул | C6: Розница | E6: Ваша скидка
C7: Цена | D7: Ед. | E7: 0
A8: Gidruss
A9: GRSS-40-20 (нерж., до 40 кВт, G ¾″, сечение корпуса 60х60x2 мм) | B9: 12 00040 03 | C9: =VLOOKUP(B9,Лист4!$B$2:$G$2034,6,0) -> 79900 | D9: шт | E9: =C9-C9*$E$7 -> 79900
A10: GRSS-40-22PF (до 40 кВт, под пресс-фитинги 22 мм) | B10: GG 40PA0 20 | C10: =VLOOKUP(B10,Лист4!$B$2:$G$2034,6,0) -> 59056 | D10: шт | E10: =C10-C10*$E$7 -> 59056
A11: GR-60-25.EPP (до 60 кВт, G 1″, корпус 80х80х3 ст.09Г2С, EPP-термоизоляция) | B11: GR 60G0T 04 | C11: =VLOOKUP(B11,Лист4!$B$2:$G$2034,6,0) -> 59056 | D11: шт | E11: =C11-C11*$E$7 -> 59056
A12: GRSS-60-25.EPP (нерж., до 60 кВт, G 1″, корпус 80х80x2 ст.08Х18Н10, EPP-термоизоляция) | B12: GR 60GAT 04 | C12: =VLOOKUP(B12,Лист4!$B$2:$G$2034,6,0) -> 116955 | D12: шт | E12: =C12-C12*$E$7 -> 116955
A13: GRSS-60-28PF (до 60 кВт, под пресс 28 мм) | B13: GG 60PA0 20 | C13: =VLOOKUP(B13,Лист4!$B$2:$G$2034,6,0) -> 99585 | D13: шт | E13: =C13-C13*$E$7 -> 99585
A14: GR-80-32.EPP (до 80 кВт, G 1¼″, корпус 80х80х3 ст. 09Г2С, EPP-термоизоляция) | B14: GR 80G0T 04 | C14: =VLOOKUP(B14,Лист4!$B$2:$G$2034,6,0) -> 64846 | D14: шт | E14: =C14-C14*$E$7 -> 64846
A15: GR-100-32 (до 100 кВт, G 1¼″, корпус 100х100х3 ст. 09Г2С) | B15: 11 00100 05 | C15: =VLOOKUP(B15,Лист4!$B$2:$G$2034,6,0) -> 76426 | D15: шт | E15: =C15-C15*$E$7 -> 76426
A16: GRSS-100-32 (нерж., до 100 кВт, G 1¼″, сечение корпуса 100х100x3 мм) | B16: 12 00100 05 | C16: =VLOOKUP(B16,Лист4!$B$2:$G$2034,6,0) -> 152852 | D16: шт | E16: =C16-C16*$E$7 -> 152852
A17: GRSS-80-32.EPP (нерж., до 80 кВт, G 1¼″, корпус 80х80x2 ст.08Х18Н10, EPP-термоизоляция) | B17: GR 80GAT 04 | C17: =VLOOKUP(B17,Лист4!$B$2:$G$2034,6,0) -> 128535 | D17: шт | E17: =C17-C17*$E$7 -> 128535
A18: GRSS-100-35PF (до 100 кВт, под пресс-фитинги 35 мм) | B18: GG 10PA0 20 | C18: =VLOOKUP(B18,Лист4!$B$2:$G$2034,6,0) -> 113481 | D18: шт | E18: =C18-C18*$E$7 -> 113481
A19: GR-150-40 (до 150 кВт, G 1½″, корпус 120х120x4 ст. 09Г2С) | B19: 11 00150 04 | C19: =VLOOKUP(B19,Лист4!$B$2:$G$2034,6,0) -> 93796 | D19: шт | E19: =C19-C19*$E$7 -> 93796
A20: GRSS-150-40 (нерж., до 150 кВт, G 1½″, сечение корпуса 120х120 мм) | B20: 12 00150 04 | C20: =VLOOKUP(B20,Лист4!$B$2:$G$2034,6,0) -> 206119 | D20: шт | E20: =C20-C20*$E$7 -> 206119
... A168: DMSS-32-25x5 (нерж., магистральное подкл. G 1¼˝, 5 контуров G 1˝, воздухоотвод. Rp ½″) | B168: 1G 00435 17 | C168: =VLOOKUP(B168,Лист4!$B$2:$G$2034,6,0) -> 116955 | D168: шт | E168: =C168-C168*$E$7 -> 116955

Sheet Север
A2: Прайс-лист
A4: ТОО "Контур Азия"
A6: Ценовая группа/ Номенклатура/ Характеристика номенклатуры | B6: Артикул | C6: Розница | E6: Ваша скидка
C7: Цена | D7: Ед. | E7: 0
A8: Север
A9: Бейдж "СЕВЕР" | B9: 1925000 | C9: =VLOOKUP(B9,Лист4!$B$2:$G$2034,6,0) -> 442 | D9: шт | E9: =C9-C9*$E$7 -> 442
A10: Гидравлический разделитель Север-140 черный | B10: 1925068 | C10: =VLOOKUP(B10,Лист4!$B$2:$G$2034,6,0) -> 65325 | D10: шт | E10: =C10-C10*$E$7 -> 65325
A11: Гидравлический разделитель Север-140К2 черный | B11: 1925069 | C11: =VLOOKUP(B11,Лист4!$B$2:$G$2034,6,0) -> 73394 | D11: шт | E11: =C11-C11*$E$7 -> 73394
A12: Гидравлический разделитель Север-220 черный | B12: 1925006 | C12: =VLOOKUP(B12,Лист4!$B$2:$G$2034,6,0) -> 270144 | D12: шт | E12: =C12-C12*$E$7 -> 270144
A13: Гидравлический разделитель Север-220+ черный | B13: 1925007 | C13: =VLOOKUP(B13,Лист4!$B$2:$G$2034,6,0) -> 323089 | D13: шт | E13: =C13-C13*$E$7 -> 323089
A14: Гидравлический разделитель Север-60 | B14: 1925001 | C14: =VLOOKUP(B14,Лист4!$B$2:$G$2034,6,0) -> 34044 | D14: шт | E14: =C14-C14*$E$7 -> 34044
A15: Гидравлический разделитель Север-60 К2 черный | B15: 1925057 | C15: =VLOOKUP(B15,Лист4!$B$2:$G$2034,6,0) -> 38466 | D15: шт | E15: =C15-C15*$E$7 -> 38466
A16: Гидравлический разделитель совмещенный с коллектором Север-Компакт | B16: 1925026 | C16: =VLOOKUP(B16,Лист4!$B$2:$G$2034,6,0) -> 59025 | D16: шт | E16: =C16-C16*$E$7 -> 59025
A17: Гидравлический разделитель совмещенный с коллектором Север-Компакт+ | B17: 1925076 | C17: =VLOOKUP(B17,Лист4!$B$2:$G$2034,6,0) -> 86216 | D17: шт | E17: =C17-C17*$E$7 -> 86216
A18: Каскадный узел вертикального типа Север-KUV | B18: 1925025 | C18: =VLOOKUP(B18,Лист4!$B$2:$G$2034,6,0) -> 49740 | D18: шт | E18: =C18-C18*$E$7 -> 49740
A19: Каскадный узел Север-KUG | B19: 1925024 | C19: =VLOOKUP(B19,Лист4!$B$2:$G$2034,6,0) -> 59025 | D19: шт | E19: =C19-C19*$E$7 -> 59025
A20: Коллектор комбинированный Север-KV3 черный | B20: 1925018 | C20: =VLOOKUP(B20,Лист4!$B$2:$G$2034,6,0) -> 67536 | D20: шт | E20: =C20-C20*$E$7 -> 67536
... A70: Чехол теплоизоляционный Север-М6 | B70: 1965071 | C70: =VLOOKUP(B70,Лист4!$B$2:$G$2034,6,0) -> 40566 | D70: шт | E70: =C70-C70*$E$7 -> 40566

Sheet Palanzh
A2: Прайс-лист
A4: ТОО "Контур Азия"
A6: Ценовая группа/ Номенклатура/ Характеристика номенклатуры | B6: Артикул | C6: Розница | E6: Ваша скидка
C7: Цена | D7: Ед. | E7: 0
A8: Паланж
A9: PERT 5A 1620W Труба Pert-Al-Pert 16,0 х 2,0 Palanzh | B9: PERT 5A 1620W | C9: =VLOOKUP(B9,Лист4!$B$2:$G$2034,6,0) -> 536 | D9: пог.м. | E9: =C9-C9*$E$7 -> 536
A10: PERT 5A 2020W Труба Pert-Al-Pert 20,0 х 2,0 Palanzh | B10: PERT 5A 2020W | C10: =VLOOKUP(B10,Лист4!$B$2:$G$2034,6,0) -> 746 | D10: пог.м. | E10: =C10-C10*$E$7 -> 746
A11: PEX 3 1622G Труба PE-X/EVOH 16,0 х 2,2 Palanzh | B11: PEX 3 1622G | C11: =VLOOKUP(B11,Лист4!$B$2:$G$2034,6,0) -> 492 | D11: пог.м. | E11: =C11-C11*$E$7 -> 492
A12: PEX 3 2028G Труба PE-X/EVOH 20,0 х 2,8 Palanzh | B12: PEX 3 2028G | C12: =VLOOKUP(B12,Лист4!$B$2:$G$2034,6,0) -> 741 | D12: пог.м. | E12: =C12-C12*$E$7 -> 741

Sheet Инструмент и алюм. профиль
A2: Прайс-лист
A4: ТОО "Контур Азия"
A6: Ценовая группа/ Номенклатура/ Характеристика номенклатуры | B6: Артикул | C6: Розница | E6: Ваша скидка
C7: Цена | D7: Ед. | E7: 0
A8: Инструменты для теплого пола
A9: B 16100 Заглушка-пробка длинная 1/2 синяя 1шт | B9: B 16100 | C9: =VLOOKUP(B9,Лист4!$B$2:$G$2034,6,0) -> 229 | D9: шт | E9: =C9-C9*$E$7 -> 229
A10: FS 1620F Поворотная клипса, 15шт пачка | B10: FS 1620F | C10: =VLOOKUP(B10,Лист4!$B$2:$G$2034,6,0) -> 70 | D10: шт | E10: =C10-C10*$E$7 -> 70
A11: R 16100 Заглушка-пробка длинная 1/2 красная 1шт | B11: R 16100 | C11: =VLOOKUP(B11,Лист4!$B$2:$G$2034,6,0) -> 229 | D11: шт | E11: =C11-C11*$E$7 -> 229
A12: Taker RT 1620 M ручной инструмент | B12: RT 1620 M | C12: =VLOOKUP(B12,Лист4!$B$2:$G$2034,6,0) -> 46295 | D12: шт | E12: =C12-C12*$E$7 -> 46295
A13: Taker RT 1620 Т ручной инструмент, новый | B13: RT 1620Т | C13: =VLOOKUP(B13,Лист4!$B$2:$G$2034,6,0) -> 46295 | D13: шт | E13: =C13-C13*$E$7 -> 46295
A14: WB 90003 Алюминиевый монтажный профиль WALLBOX в штангах 1м | B14: WB 90003 | C14: =VLOOKUP(B14,Лист4!$B$2:$G$2034,6,0) -> 6362 | D14: м | E14: =C14-C14*$E$7 -> 6362
A15: WB 90102 Угловое соединение | B15: WB 90102 | C15: =VLOOKUP(B15,Лист4!$B$2:$G$2034,6,0) -> 1382 | D15: шт | E15: =C15-C15*$E$7 -> 1382
A16: WB 90103 Установочный элемент, базовый | B16: WB 90103 | C16: =VLOOKUP(B16,Лист4!$B$2:$G$2034,6,0) -> 1102 | D16: шт | E16: =C16-C16*$E$7 -> 1102
A17: WB 90109 Торцевое соединение профиля, удлинитель | B17: WB 90109 | C17: =VLOOKUP(B17,Лист4!$B$2:$G$2034,6,0) -> 2828 | D17: шт | E17: =C17-C17*$E$7 -> 2828
A18: WB 90112 Слим лайн, скользящая опора | B18: WB 90112 | C18: =VLOOKUP(B18,Лист4!$B$2:$G$2034,6,0) -> 4191 | D18: шт | E18: =C18-C18*$E$7 -> 4191
A19: WB 90182 Соединение универсальное | B19: WB 90182 | C19: =VLOOKUP(B19,Лист4!$B$2:$G$2034,6,0) -> 3968 | D19: шт | E19: =C19-C19*$E$7 -> 3968
A20: WB 90200 Комплект стальных петель для профиля WALLBOX | B20: WB 90200 | C20: =VLOOKUP(B20,Лист4!$B$2:$G$2034,6,0) -> 127249 | D20: шт | E20: =C20-C20*$E$7 -> 127249
... A44: Шпильки на клейкой ленте для монтажа такером (упаковка 416шт.) | B44: U55 1620 | C44: =VLOOKUP(B44,Лист4!$B$2:$G$2034,6,0) -> 9534 | D44: шт | E44: =C44-C44*$E$7 -> 9534

Sheet Плиты
A2: Прайс-лист
A4: ТОО "Контур Азия"
A6: Ценовая группа/ Номенклатура/ Характеристика номенклатуры | B6: Артикул | C6: Розница | E6: Ваша скидка
C7: Цена | D7: Ед. | E7: 0
A8: Плиты
A9: Плита EasyFix | B9: IIUP-204000-EF-0010 | C9: =VLOOKUP(B9,Лист4!$B$2:$G$2034,6,0) -> 2299 | D9: шт | E9: =C9-C9*$E$7 -> 2299
A10: Плита EasyFix L | B10: IIUP-2040L0-EF-0010 | C10: =VLOOKUP(B10,Лист4!$B$2:$G$2034,6,0) -> 2299 | D10: шт | E10: =C10-C10*$E$7 -> 2299
A11: Плита EasyFix L Синяя | B11: IIUP-2041LB-FT-0010 | C11: =VLOOKUP(B11,Лист4!$B$2:$G$2034,6,0) -> 2299 | D11: шт | E11: =C11-C11*$E$7 -> 2299
A12: Плита для теплого пола EasyFix L | B12: IIUP-2041LK-FT-0010 | C12: =VLOOKUP(B12,Лист4!$B$2:$G$2034,6,0) -> 2299 | D12: шт | E12: =C12-C12*$E$7 -> 2299

Sheet Супримпласт
A2: Прайс-лист
A4: ТОО "Контур Азия"
A6: Ценовая группа/ Номенклатура/ Характеристика номенклатуры | B6: Артикул | C6: Розница | E6: Ваша скидка
C7: Цена | D7: Ед. | E7: 0
A8: Супримпласт
A9: Вантуз конический белый,диаметр 136мм,ручка пластмасовая h=219мм | B9: 1VN136R2190202 | C9: =VLOOKUP(B9,Лист4!$B$2:$G$2034,6,0) -> 1968 | D9: шт | E9: =C9-C9*$E$7 -> 1968
A10: Вантуз конический черный,диаметр 136мм,ручка пластмасовая h=219мм | B10: 1VN136R2190101 | C10: =VLOOKUP(B10,Лист4!$B$2:$G$2034,6,0) -> 1968 | D10: шт | E10: =C10-C10*$E$7 -> 1968
A11: Вантуз конический черный,диаметр 136мм,ручка пластмасовая h=319мм | B11: 1VN136R3190101 | C11: =VLOOKUP(B11,Лист4!$B$2:$G$2034,6,0) -> 2001 | D11: шт | E11: =C11-C11*$E$7 -> 2001
A12: Вантуз-Гигант конический черный, диаметр 172 мм, ручка пластмассовая h=319мм | B12: 1VN172R319_0101 | C12: =VLOOKUP(B12,Лист4!$B$2:$G$2034,6,0) -> 2251 | D12: шт | E12: =C12-C12*$E$7 -> 2251
A13: Манжета переход D110x123 трехлепестковая черная | B13: 5MP110123_01 | C13: =VLOOKUP(B13,Лист4!$B$2:$G$2034,6,0) -> 402 | D13: шт | E13: =C13-C13*$E$7 -> 402
A14: Манжета переход D25x40 трехлепестковая черная | B14: 5MP2540_01 | C14: =VLOOKUP(B14,Лист4!$B$2:$G$2034,6,0) -> 134 | D14: шт | E14: =C14-C14*$E$7 -> 134
A15: Манжета переход D25x50 трехлепестковая черная | B15: 5MP2550_01 | C15: =VLOOKUP(B15,Лист4!$B$2:$G$2034,6,0) -> 140 | D15: шт | E15: =C15-C15*$E$7 -> 140
A16: Манжета переход D32x50 трехлепестковая черная | B16: 5MP3250_01 | C16: =VLOOKUP(B16,Лист4!$B$2:$G$2034,6,0) -> 132 | D16: шт | E16: =C16-C16*$E$7 -> 132
A17: Манжета переход D40x50 трехлепестковая (испол. 2) черная | B17: 5MP40502_01 | C17: =VLOOKUP(B17,Лист4!$B$2:$G$2034,6,0) -> 121 | D17: шт | E17: =C17-C17*$E$7 -> 121
A18: Манжета переход D50x73 трехлепестковая черная | B18: 5MP5073_01 | C18: =VLOOKUP(B18,Лист4!$B$2:$G$2034,6,0) -> 280 | D18: шт | E18: =C18-C18*$E$7 -> 280
A19: Манжета переходная D32x40 трехлепестковая черная | B19: 5MP3240_01 | C19: =VLOOKUP(B19,Лист4!$B$2:$G$2034,6,0) -> 115 | D19: шт | E19: =C19-C19*$E$7 -> 115
A20: Манжета переходная D40x50 (исполнение 1) черная | B20: 5MP40501_01 | C20: =VLOOKUP(B20,Лист4!$B$2:$G$2034,6,0) -> 139 | D20: шт | E20: =C20-C20*$E$7 -> 139
... A47: Резьбовой соединитель (бочонок) 3/4 для наливного шланга стиральной машины | B47: 4NN34_02 | C47: =VLOOKUP(B47,Лист4!$B$2:$G$2034,6,0) -> 42 | D47: шт | E47: =C47-C47*$E$7 -> 42

Sheet Motusline
A2: Прайс-лист
A4: ТОО "Контур Азия"
A6: Ценовая группа/ Номенклатура/ Характеристика номенклатуры | B6: Артикул | C6: Розница | E6: Ваша скидка
C7: Цена | D7: Ед. | E7: 0
A8: МотусЛайн
A9: (ПП) Комплект №2(Ч) для подключения к радиатору для труб из сшитого полиэтилена 20 комп./кор. | B9: ML-21461 | C9: =VLOOKUP(B9,Лист4!$B$2:$G$2034,6,0) -> 420 | D9: шт | E9: =C9-C9*$E$7 -> 420
A10: Дюбель крюк двойной 16-32мм, М8, 100мм. 200шт | B10: ML-618 | C10: =VLOOKUP(B10,Лист4!$B$2:$G$2034,6,0) -> 43 | D10: шт | E10: =C10-C10*$E$7 -> 43
A11: Дюбель крюк одинарный 16-32мм, М8, 100мм. 200шт., | B11: ML-619 | C11: =VLOOKUP(B11,Лист4!$B$2:$G$2034,6,0) -> 41 | D11: шт | E11: =C11-C11*$E$7 -> 41
A12: Фиксатор поворота угла на 90 град d 16 мм 100 шт/кор | B12: ML-1768 | C12: =VLOOKUP(B12,Лист4!$B$2:$G$2034,6,0) -> 304 | D12: шт | E12: =C12-C12*$E$7 -> 304
A13: Фиксатор поворота угла на 90 град d 20 мм 50 шт/кор | B13: ML-687 | C13: =VLOOKUP(B13,Лист4!$B$2:$G$2034,6,0) -> 426 | D13: шт | E13: =C13-C13*$E$7 -> 426
A14: Шина фиксирующая 0,5м d 16-20 мм 100 шт/кор | B14: ML-616 | C14: =VLOOKUP(B14,Лист4!$B$2:$G$2034,6,0) -> 312 | D14: шт | E14: =C14-C14*$E$7 -> 312

Sheet Tonlos
A2: Прайс-лист
A4: ТОО "Контур Азия"
A6: Ценовая группа/ Номенклатура/ Характеристика номенклатуры | B6: Артикул | C6: Розница | E6: Ваша скидка
C7: Цена | D7: Ед. | E7: 0
A8: TONLOS
A9: TONLOS SEALBAND фиксирующая лента 0,1*10м | B9: 4640107332954 | C9: 7980 | D9: уп | E9: =C9-C9*$E$7 -> 7980
A10: TONLOS BATH Комплект для шумоизоляции ванны | B10: 4640107330073 | C10: 23980 | D10: уп | E10: =C10-C10*$E$7 -> 23980
A11: TONLOS PIPE PREMIUM Комплект для шумоизоляции канализационных труб | B11: 4640107330085 | C11: 64480 | D11: уп | E11: =C11-C11*$E$7 -> 64480
A12: TONLOS PIPE PRO Комплект для шумоизоляции канализационных труб | B12: 4640107331957 | C12: 45760 | D12: рул | E12: =C12-C12*$E$7 -> 45760
A13: TONLOS PIPE Комплект для шумоизоляции канализационных труб | B13: 4640107330080 | C13: 22875 | D13: рул | E13: =C13-C13*$E$7 -> 22875
A14: TONLOS TERRA FELT PRO Звукоизоляция пола (0,7*5м) | B14: 4640107330080 | C14: 52425 | D14: уп | E14: =C14-C14*$E$7 -> 52425

Sheet Brinko
A2: Прайс-лист
A4: ТОО "Контур Азия"
A6: Ценовая группа/ Номенклатура/ Характеристика номенклатуры | B6: Артикул | C6: Розница | E6: Ваша скидка
C7: Цена | D7: Ед. | E7: 0
A8: Бринко
A9: Бейсболка со встроенной LED подсветкой в козырьке STRIKE 360.124 | B9: 360.124 | C9: =VLOOKUP(B9,Лист4!$B$2:$G$2034,6,0) -> 15054 | D9: шт | E9: =C9-C9*$E$7 -> 15054
A10: Гратосниматель (карандаш) 649G | B10: 649G | C10: =VLOOKUP(B10,Лист4!$B$2:$G$2034,6,0) -> 12159 | D10: шт | E10: =C10-C10*$E$7 -> 12159
A11: Гратосниматель к труборезу 633-2G | B11: 633-2G | C11: =VLOOKUP(B11,Лист4!$B$2:$G$2034,6,0) -> 4053 | D11: шт | E11: =C11-C11*$E$7 -> 4053
A12: Диск для трубореза по нерж 633-75G | B12: 633-75G | C12: =VLOOKUP(B12,Лист4!$B$2:$G$2034,6,0) -> 9264 | D12: шт | E12: =C12-C12*$E$7 -> 9264
A13: Защитный коврик для коленей Garnet 46x30x4см ToolPack 360.135 | B13: 360.135 | C13: =VLOOKUP(B13,Лист4!$B$2:$G$2034,6,0) -> 10422 | D13: шт | E13: =C13-C13*$E$7 -> 10422
A14: Катушка льна 55м, 40гр. GI-tools 3825G | B14: 3825G | C14: =VLOOKUP(B14,Лист4!$B$2:$G$2034,6,0) -> 1853 | D14: шт | E14: =C14-C14*$E$7 -> 1853
A15: Катушка льна в пласт.футляре 110м,80гр. GI-tools 3820G | B15: 3820G | C15: =VLOOKUP(B15,Лист4!$B$2:$G$2034,6,0) -> 1853 | D15: шт | E15: =C15-C15*$E$7 -> 1853
A16: Ключ для угловых вентилей 659G | B16: 659G | C16: =VLOOKUP(B16,Лист4!$B$2:$G$2034,6,0) -> 13317 | D16: шт | E16: =C16-C16*$E$7 -> 13317
A17: Ключ для эксцентриков 3/4" 676G | B17: 676G | C17: =VLOOKUP(B17,Лист4!$B$2:$G$2034,6,0) -> 22580 | D17: шт | E17: =C17-C17*$E$7 -> 22580
A18: Ключ крестовой сантехнический 106 | B18: 106 | C18: =VLOOKUP(B18,Лист4!$B$2:$G$2034,6,0) -> 55791 | D18: шт | E18: =C18-C18*$E$7 -> 55791
A19: Ключ ступенчатый для американок до 1" 105 мм 673/105 | B19: 673/105 | C19: =VLOOKUP(B19,Лист4!$B$2:$G$2034,6,0) -> 20843 | D19: шт | E19: =C19-C19*$E$7 -> 20843
A20: Ключ ступенчатый для американок до3/4" 86 мм 673/86 | B20: 673/86 | C20: =VLOOKUP(B20,Лист4!$B$2:$G$2034,6,0) -> 18354 | D20: шт | E20: =C20-C20*$E$7 -> 18354
A21: Ключ цанговый арматурный 240 мм 689 | B21: 689/240 | C21: =VLOOKUP(B21,Лист4!$B$2:$G$2034,6,0) -> 50650 | D21: шт | E21: =C21-C21*$E$7 -> 50650
A22: Ключ цанговый арматурный 250 мм 689 | B22: 689/250 | C22: =VLOOKUP(B22,Лист4!$B$2:$G$2034,6,0) -> 50650 | D22: шт | E22: =C22-C22*$E$7 -> 50650
A23: Лезвия сменные к труборезу для пластик. трубы 20-50 мм 638-1G | B23: 638-1G | C23: =VLOOKUP(B23,Лист4!$B$2:$G$2034,6,0) -> 1158 | D23: шт | E23: =C23-C23*$E$7 -> 1158
A24: Паста уплотнительная сантехническая 70 гр PASTUM H2O 3821G | B24: 3821G | C24: =VLOOKUP(B24,Лист4!$B$2:$G$2034,6,0) -> 1853 | D24: шт | E24: =C24-C24*$E$7 -> 1853
A25: Приспособление для монтажа угловых вентилей 659 | B25: 659 | C25: =VLOOKUP(B25,Лист4!$B$2:$G$2034,6,0) -> 31485 | D25: шт | E25: =C25-C25*$E$7 -> 31485
A26: Сухой строительный маркер 2511G | B26: 2511G | C26: =VLOOKUP(B26,Лист4!$B$2:$G$2034,6,0) -> 4632 | D26: шт | E26: =C26-C26*$E$7 -> 4632
A27: Трещотка двухсторонняя (внутр.и внешн.квадрат 1/2") 129-3 | B27: 129-3 | C27: =VLOOKUP(B27,Лист4!$B$2:$G$2034,6,0) -> 49341 | D27: шт | E27: =C27-C27*$E$7 -> 49341
A28: Трещотка двухсторонняя (внутр.и внешн.квадрат 1/2") GI-tools 129-3G | B28: 129-3G | C28: =VLOOKUP(B28,Лист4!$B$2:$G$2034,6,0) -> 38213 | D28: шт | E28: =C28-C28*$E$7 -> 38213
A29: Труборез для пластик. трубы 20-50 мм 638G | B29: 638G | C29: =VLOOKUP(B29,Лист4!$B$2:$G$2034,6,0) -> 15633 | D29: шт | E29: =C29-C29*$E$7 -> 15633
A30: Труборез по нержавейке для труб 4-32мм (алюм./медь до 3,5мм, нерж.до 2мм) | B30: 33gtsr | C30: =VLOOKUP(B30,Лист4!$B$2:$G$2034,6,0) -> 15633 | D30: шт | E30: =C30-C30*$E$7 -> 15633
A31: Шаблон для монтажа инсталяции Light 284G | B31: 284G | C31: =VLOOKUP(B31,Лист4!$B$2:$G$2034,6,0) -> 3474 | D31: шт | E31: =C31-C31*$E$7 -> 3474
A32: Шпильковерт М10 Gl-tools 102/10G | B32: 102/10G | C32: =VLOOKUP(B32,Лист4!$B$2:$G$2034,6,0) -> 8685 | D32: шт | E32: =C32-C32*$E$7 -> 8685
A33: Шпильковерт М8 Gl-tools 102/8G | B33: 102/8G | C33: =VLOOKUP(B33,Лист4!$B$2:$G$2034,6,0) -> 8685 | D33: шт | E33: =C33-C33*$E$7 -> 8685

Sheet Gidrolock
A2: Прайс-лист
A4: ТОО "Контур Азия"
A6: Ценовая группа/ Номенклатура/ Характеристика номенклатуры | B6: Артикул | C6: Розница | E6: Ваша скидка
C7: Цена | D7: Ед. | E7: 0
A8: Gidrolock
A9: Датчик протечки воды WSP (10 м) | B9: 40100113 | C9: =VLOOKUP(B9,Лист4!$B$2:$G$2034,6,0) -> 7376 | D9: шт | E9: =C9-C9*$E$7 -> 7376
A10: Датчик протечки воды WSP (20 м) | B10: 40100114 | C10: =VLOOKUP(B10,Лист4!$B$2:$G$2034,6,0) -> 10352 | D10: шт | E10: =C10-C10*$E$7 -> 10352
A11: Датчик протечки воды WSP (3 м) | B11: 40100111 | C11: =VLOOKUP(B11,Лист4!$B$2:$G$2034,6,0) -> 5037 | D11: шт | E11: =C11-C11*$E$7 -> 5037
A12: Датчик протечки воды WSP (5 м) | B12: 40100112 | C12: =VLOOKUP(B12,Лист4!$B$2:$G$2034,6,0) -> 5940 | D12: шт | E12: =C12-C12*$E$7 -> 5940
A13: Датчик протечки воды WSR белый | B13: 40600210 | C13: =VLOOKUP(B13,Лист4!$B$2:$G$2034,6,0) -> 19848 | D13: шт | E13: =C13-C13*$E$7 -> 19848
A14: Комплект Gidrolock Premium BUGATTI 1/2" | B14: 31201021 | C14: =VLOOKUP(B14,Лист4!$B$2:$G$2034,6,0) -> 157681 | D14: шт | E14: =C14-C14*$E$7 -> 157681
A15: Комплект Gidrolock Premium BUGATTI 3/4" | B15: 31201022 | C15: =VLOOKUP(B15,Лист4!$B$2:$G$2034,6,0) -> 168299 | D15: шт | E15: =C15-C15*$E$7 -> 168299
A16: Комплект Gidrolock Premium G-Lock 1/2" | B16: 31201061 | C16: =VLOOKUP(B16,Лист4!$B$2:$G$2034,6,0) -> 134012 | D16: шт | E16: =C16-C16*$E$7 -> 134012
A17: Комплект Gidrolock Premium G-Lock 3/4" | B17: 31201062 | C17: =VLOOKUP(B17,Лист4!$B$2:$G$2034,6,0) -> 141180 | D17: шт | E17: =C17-C17*$E$7 -> 141180
A18: Комплект Gidrolock STANDARD Wi-Fi G-Lock 1/2" | B18: 32101061 | C18: =VLOOKUP(B18,Лист4!$B$2:$G$2034,6,0) -> 151949 | D18: шт | E18: =C18-C18*$E$7 -> 151949
A19: Комплект Gidrolock STANDARD Wi-Fi G-Lock 3/4" | B19: 32101062 | C19: =VLOOKUP(B19,Лист4!$B$2:$G$2034,6,0) -> 156199 | D19: шт | E19: =C19-C19*$E$7 -> 156199
A20: Комплект Gidrоlock Premium RADIO BUGATTI 1/2" | B20: 31101021 | C20: =VLOOKUP(B20,Лист4!$B$2:$G$2034,6,0) -> 210067 | D20: шт | E20: =C20-C20*$E$7 -> 210067
... A25: ШЭП ULTIMATE 220V G-LOCK 3/4" BS | B25: 11092062 | C25: =VLOOKUP(B25,Лист4!$B$2:$G$2034,6,0) -> 44478 | D25: шт | E25: =C25-C25*$E$7 -> 44478

Sheet БАЗ
A2: Прайс-лист
A4: ТОО "Контур Азия"
A6: Ценовая группа/ Номенклатура/ Характеристика номенклатуры | B6: Артикул | C6: Розница | E6: Ваша скидка
C7: Цена | D7: Ед. | E7: 0
A8: БАЗ
A9: Американка прямая 1/2 АП15.00 никель | B9: БАЗ.АП.15.Н | C9: =VLOOKUP(B9,Лист4!$B$2:$G$2034,6,0) -> 1213 | D9: шт | E9: =C9-C9*$E$7 -> 1213
A10: Американка прямая 3/4 АП20.00 Никель | B10: БАЗ.АП.20.Н | C10: =VLOOKUP(B10,Лист4!$B$2:$G$2034,6,0) -> 1880 | D10: шт | E10: =C10-C10*$E$7 -> 1880
A11: Заглушка 1 1/4В З 32В никель | B11: БАЗ.З.32В.Н | C11: =VLOOKUP(B11,Лист4!$B$2:$G$2034,6,0) -> 1173 | D11: шт | E11: =C11-C11*$E$7 -> 1173
A12: Заглушка 1/2В З 15В никель | B12: БАЗ.З.15В.Н | C12: =VLOOKUP(B12,Лист4!$B$2:$G$2034,6,0) -> 355 | D12: шт | E12: =C12-C12*$E$7 -> 355
A13: Заглушка 1/2Н З 15Н никель | B13: БАЗ.З.15Н.Н | C13: =VLOOKUP(B13,Лист4!$B$2:$G$2034,6,0) -> 350 | D13: шт | E13: =C13-C13*$E$7 -> 350
A14: Заглушка 1В З 25В никель | B14: БАЗ.З.25В.Н | C14: =VLOOKUP(B14,Лист4!$B$2:$G$2034,6,0) -> 679 | D14: шт | E14: =C14-C14*$E$7 -> 679
A15: Заглушка 1Н З 25Н никель | B15: БАЗ.З.25Н.Н | C15: =VLOOKUP(B15,Лист4!$B$2:$G$2034,6,0) -> 762 | D15: шт | E15: =C15-C15*$E$7 -> 762
A16: Заглушка 3/4В З 20В никель | B16: БАЗ.З.20В.Н | C16: =VLOOKUP(B16,Лист4!$B$2:$G$2034,6,0) -> 463 | D16: шт | E16: =C16-C16*$E$7 -> 463
A17: Заглушка 3/4Н З 20Н никель | B17: БАЗ.З.20Н.Н | C17: =VLOOKUP(B17,Лист4!$B$2:$G$2034,6,0) -> 473 | D17: шт | E17: =C17-C17*$E$7 -> 473
A18: Кран шаровой "американка" Ду15 А31/1 прямой бабочка никель PN40 | B18: БАЗ.А.А31.1.15.НГ.40.Н | C18: =VLOOKUP(B18,Лист4!$B$2:$G$2034,6,0) -> 3291 | D18: шт | E18: =C18-C18*$E$7 -> 3291
A19: Кран шаровой "американка" Ду20 А31/1 прямой бабочка никель PN40 | B19: БАЗ.А.А31.1.20.НГ.40.Н | C19: =VLOOKUP(B19,Лист4!$B$2:$G$2034,6,0) -> 4942 | D19: шт | E19: =C19-C19*$E$7 -> 4942
A20: Кран шаровой "американка" Ду25 А31 прямой рычаг никель PN40 | B20: БАЗ.А.А31.0.25.НГ.40.Н | C20: =VLOOKUP(B20,Лист4!$B$2:$G$2034,6,0) -> 7882 | D20: шт | E20: =C20-C20*$E$7 -> 7882
... A107: Футорка 3/8Вх1/2Н Ф12В/15Н никель | B107: БАЗ.Ф.12В.15Н.Н | C107: =VLOOKUP(B107,Лист4!$B$2:$G$2034,6,0) -> 295 | D107: шт | E107: =C107-C107*$E$7 -> 295

Sheet MVI инструмент
A2: Прайс-лист
A4: ТОО "Контур Азия"
A6: Ценовая группа/ Номенклатура/ Характеристика номенклатуры | B6: Артикул | C6: Розница | E6: Ваша скидка
C7: Цена | D7: Ед. | E7: 0
A8: MVI
A9: Аккумуляторный пресс-инструмент MVI (без насадок) | B9: ATPF.101 | C9: =VLOOKUP(B9,Лист4!$B$2:$G$2034,6,0) -> 642091 | D9: шт | E9: =C9-C9*$E$7 -> 642091
A10: Насадка для аккумуляторного пресс-инструмента TH-16 мм | B10: ATPJ.16 | C10: =VLOOKUP(B10,Лист4!$B$2:$G$2034,6,0) -> 45864 | D10: шт | E10: =C10-C10*$E$7 -> 45864
A11: Насадка для аккумуляторного пресс-инструмента TH-20 мм | B11: ATPJ.20 | C11: =VLOOKUP(B11,Лист4!$B$2:$G$2034,6,0) -> 45864 | D11: шт | E11: =C11-C11*$E$7 -> 45864
A12: Насадка для аккумуляторного пресс-инструмента TH-26 мм | B12: ATPJ.26 | C12: =VLOOKUP(B12,Лист4!$B$2:$G$2034,6,0) -> 45864 | D12: шт | E12: =C12-C12*$E$7 -> 45864
A13: Насадка для аккумуляторного пресс-инструмента TH-32 мм | B13: ATPJ.32 | C13: =VLOOKUP(B13,Лист4!$B$2:$G$2034,6,0) -> 45864 | D13: шт | E13: =C13-C13*$E$7 -> 45864
A14: Калибратор MVI для металлопластиковых труб DN 16-32 мм | B14: DT.0407 | C14: =VLOOKUP(B14,Лист4!$B$2:$G$2034,6,0) -> 17502 | D14: шт | E14: =C14-C14*$E$7 -> 17502
A15: Пресс-клещи ручные MVI с комплектом насадок ТН 16, 20, 26, 32 мм | B15: MTPF.101 | C15: =VLOOKUP(B15,Лист4!$B$2:$G$2034,6,0) -> 78886 | D15: шт | E15: =C15-C15*$E$7 -> 78886
A16: Комплект инструментов ручной для монтажа аксиальных фитингов | B16: MTSF.502 | C16: =VLOOKUP(B16,Лист4!$B$2:$G$2034,6,0) -> 168778 | D16: шт | E16: =C16-C16*$E$7 -> 168778
A17: Ножницы MVI для труб, диаметром до 42 мм, красные | B17: PC.101 | C17: =VLOOKUP(B17,Лист4!$B$2:$G$2034,6,0) -> 3045 | D17: шт | E17: =C17-C17*$E$7 -> 3045
A18: Ножницы MVI для труб, диаметром до 42 мм, черные | B18: PC.201 | C18: =VLOOKUP(B18,Лист4!$B$2:$G$2034,6,0) -> 9173 | D18: шт | E18: =C18-C18*$E$7 -> 9173
A19: Пресс-клещи РВ2 15 мм М-профиль | B19: 47570-50 | C19: =VLOOKUP(B19,Лист4!$B$2:$G$2034,6,0) -> #N/A | D19: шт | E19: =C19-C19*$E$7 -> #N/A
A20: Пресс-клещи РВ2 18 мм М-профиль | B20: 47571-50 | C20: =VLOOKUP(B20,Лист4!$B$2:$G$2034,6,0) -> #N/A | D20: шт | E20: =C20-C20*$E$7 -> #N/A
... A42: Коллектор латунный с регулирующими вентилями MVI 3/4"x1/2"x4 выхода | B42: MM.404.0504 | C42: =VLOOKUP(B42,Лист4!$B$2:$G$2034,6,0) -> 11977 | D42: шт | E42: =C42-C42*$E$7 -> 11977

Sheet Лист4
A1: Номенклатура | B1: Артикул | C1: Полный дилер | D1: Дилер | E1: Опт | F1: Мелкий опт | G1: Розница | H1: Ед.из
A2: PERT-EVOH-PERT Труба D20*2.8 G-RAY OXY 100м КОНУТР | B2: 60300020000 | C2: 577 | D2: 614 | E2: 651 | F2: 688 | G2: 762 | H2: м
A3: Угольник для PERT комб. с креплением ВР D20-1/2 (2,8) | B3: 6218020110 | C3: 2371 | D3: 2523 | E3: 2675 | F3: 2827 | G3: 3130 | H3: м
A4: Гильза надвижная для PERT D16 (2.2) КОНТУР | B4: 6202016011 | C4: 246 | D4: 262 | E4: 278 | F4: 293 | G4: 325 | H4: м
A5: Гильза надвижная для PERT D25(3.5) КОНТУР | B5: 61610025310 | C5: 592 | D5: 630 | E5: 668 | F5: 706 | G5: 781 | H5: м
A6: Муфта для PERT ВР16-1/2 (2,2) | B6: 6212016110 | C6: 923 | D6: 982 | E6: 1041 | F6: 1100 | G6: 1218 | H6: м
A7: Муфта для PERT ВР20-1/2 (2,8) | B7: 6212020110 | C7: 1171 | D7: 1246 | E7: 1321 | F7: 1396 | G7: 1546 | H7: м
A8: PE-Xa труба с антидиффузионным слоем EVOH D16х2,2 G-RAY OXY КОНТУР 100м | B8: 60500016000 | C8: 405 | D8: 431 | E8: 457 | F8: 482 | G8: 534 | H8: м
A9: PE-Xa труба D16х2,2 КОНТУР 200м | B9: 60600016200 | C9: 313 | D9: 333 | E9: 353 | F9: 373 | G9: 413 | H9: шт
A10: PE-Xa труба D20х2,8 КОНТУР 100м | B10: 60600020000 | C10: 491 | D10: 522 | E10: 553 | F10: 585 | G10: 648 | H10: шт
A11: PE-Xa труба с антидиффузионным слоем EVOH D20х2,8 G-RAY OXY КОНТУР 100м | B11: 60500020100 | C11: 577 | D11: 614 | E11: 651 | F11: 688 | G11: 762 | H11: шт
A12: PE-RT тип II труба D25х3,5 G-RAY КОНТУР 50м | B12: 60200025000 | C12: 855 | D12: 910 | E12: 964 | F12: 1019 | G12: 1129 | H12: шт
A13: Гильза аксиальная PVDF надвижная D20 (2,8) КОНТУР | B13: 62610020200 | C13: 283 | D13: 302 | E13: 320 | F13: 338 | G13: 374 | H13: м
... A994: Чехол теплоизоляционный Север-М6 | B994: 1965071 | C994: 30732 | D994: 32698 | E994: 34665 | F994: 36632 | G994: 40566 | H994: шт
A995: PERT 5A 1620W Труба Pert-Al-Pert 16,0 х 2,0 Palanzh | B995: PERT 5A 1620W | C995: 406 | D995: 432 | E995: 458 | F995: 484 | G995: 536 | H995: шт
A996: PERT 5A 2020W Труба Pert-Al-Pert 20,0 х 2,0 Palanzh | B996: PERT 5A 2020W | C996: 565 | D996: 601 | E996: 638 | F996: 674 | G996: 746 | H996: шт
A997: PEX 3 1622G Труба PE-X/EVOH 16,0 х 2,2 Palanzh | B997: PEX 3 1622G | C997: 373 | D997: 396 | E997: 420 | F997: 444 | G997: 492 | H997: шт
A998: PEX 3 2028G Труба PE-X/EVOH 20,0 х 2,8 Palanzh | B998: PEX 3 2028G | C998: 561 | D998: 597 | E998: 633 | F998: 669 | G998: 741 | H998: шт
A999: B 16100 Заглушка-пробка длинная 1/2 синяя 1шт | B999: B 16100 | C999: 174 | D999: 185 | E999: 196 | F999: 207 | G999: 229 | H999: шт
A1000: FS 1620F Поворотная клипса, 15шт пачка | B1000: FS 1620F | C1000: 53 | D1000: 56 | E1000: 60 | F1000: 63 | G1000: 70 | H1000: шт
A1001: R 16100 Заглушка-пробка длинная 1/2 красная 1шт | B1001: R 16100 | C1001: 174 | D1001: 185 | E1001: 196 | F1001: 207 | G1001: 229 | H1001: шт
A1002: Taker RT 1620 M ручной инструмент | B1002: RT 1620 M | C1002: 35072 | D1002: 37317 | E1002: 39561 | F1002: 41806 | G1002: 46295 | H1002: шт
A1003: Taker RT 1620 Т ручной инструмент, новый | B1003: RT 1620Т | C1003: 35072 | D1003: 37317 | E1003: 39561 | F1003: 41806 | G1003: 46295 | H1003: шт
A1004: WB 90003 Алюминиевый монтажный профиль WALLBOX в штангах 1м | B1004: WB 90003 | C1004: 4820 | D1004: 5129 | E1004: 5437 | F1004: 5745 | G1004: 6362 | H1004: шт
A1005: WB 90102 Угловое соединение | B1005: WB 90102 | C1005: 1047 | D1005: 1114 | E1005: 1181 | F1005: 1248 | G1005: 1382 | H1005: шт
A1006: WB 90103 Установочный элемент, базовый | B1006: WB 90103 | C1006: 835 | D1006: 888 | E1006: 942 | F1006: 995 | G1006: 1102 | H1006: шт
... A1086: Ключ для эксцентриков 3/4" 676G | B1086: 676G | C1086: 17106 | D1086: 18201 | E1086: 19296 | F1086: 20391 | G1086: 22580 | H1086: шт
A1087: Ключ крестовой сантехнический 106 | B1087: 106 | C1087: 42266 | D1087: 44971 | E1087: 47676 | F1087: 50381 | G1087: 55791 | H1087: шт
A1088: Ключ ступенчатый для американок до 1" 105 мм 673/105 | B1088: 673/105 | C1088: 15791 | D1088: 16801 | E1088: 17812 | F1088: 18822 | G1088: 20843 | H1088: шт
A1089: Ключ ступенчатый для американок до3/4" 86 мм 673/86 | B1089: 673/86 | C1089: 13904 | D1089: 14794 | E1089: 15684 | F1089: 16574 | G1089: 18354 | H1089: шт
A1090: Ключ цанговый арматурный 240 мм 689 | B1090: 689/240 | C1090: 38371 | D1090: 40827 | E1090: 43282 | F1090: 45738 | G1090: 50650 | H1090: шт
A1091: Ключ цанговый арматурный 250 мм 689 | B1091: 689/250 | C1091: 38371 | D1091: 40827 | E1091: 43282 | F1091: 45738 | G1091: 50650 | H1091: шт
A1092: Лезвия сменные к труборезу для пластик. трубы 20-50 мм 638-1G | B1092: 638-1G | C1092: 877 | D1092: 933 | E1092: 990 | F1092: 1046 | G1092: 1158 | H1092: шт
A1093: Паста уплотнительная сантехническая 70 гр PASTUM H2O 3821G | B1093: 3821G | C1093: 1404 | D1093: 1493 | E1093: 1583 | F1093: 1673 | G1093: 1853 | H1093: шт
A1094: Приспособление для монтажа угловых вентилей 659 | B1094: 659 | C1094: 23852 | D1094: 25379 | E1094: 26906 | F1094: 28432 | G1094: 31485 | H1094: шт
A1095: Сухой строительный маркер 2511G | B1095: 2511G | C1095: 3509 | D1095: 3734 | E1095: 3958 | F1095: 4183 | G1095: 4632 | H1095: шт
A1096: Трещотка двухсторонняя (внутр.и внешн.квадрат 1/2") 129-3 | B1096: 129-3 | C1096: 37380 | D1096: 39772 | E1096: 42164 | F1096: 44557 | G1096: 49341 | H1096: шт
A1097: Трещотка двухсторонняя (внутр.и внешн.квадрат 1/2") GI-tools 129-3G | B1097: 129-3G | C1097: 28949 | D1097: 30802 | E1097: 32655 | F1097: 34508 | G1097: 38213 | H1097: шт
A1098: Труборез для пластик. трубы 20-50 мм 638G | B1098: 638G | C1098: 11843 | D1098: 12601 | E1098: 13359 | F1098: 14117 | G1098: 15633 | H1098: шт
A1099: Труборез по нержавейке для труб 4-32мм (алюм./медь до 3,5мм, нерж.до 2мм) | B1099: 33gtsr | C1099: 11843 | D1099: 12601 | E1099: 13359 | F1099: 14117 | G1099: 15633 | H1099: шт
A1100: Шаблон для монтажа инсталяции Light 284G | B1100: 284G | C1100: 2632 | D1100: 2800 | E1100: 2969 | F1100: 3137 | G1100: 3474 | H1100: шт
A1101: Шпильковерт М10 Gl-tools 102/10G | B1101: 102/10G | C1101: 6579 | D1101: 7000 | E1101: 7422 | F1101: 7843 | G1101: 8685 | H1101: шт
A1102: Шпильковерт М8 Gl-tools 102/8G | B1102: 102/8G | C1102: 6579 | D1102: 7000 | E1102: 7422 | F1102: 7843 | G1102: 8685 | H1102: шт
A1103: Датчик протечки воды WSP (10 м) | B1103: 40100113 | C1103: 5588 | D1103: 5946 | E1103: 6303 | F1103: 6661 | G1103: 7376 | H1103: шт
A1104: Датчик протечки воды WSP (20 м) | B1104: 40100114 | C1104: 7843 | D1104: 8345 | E1104: 8846 | F1104: 9348 | G1104: 10352 | H1104: шт
A1105: Датчик протечки воды WSP (3 м) | B1105: 40100111 | C1105: 3816 | D1105: 4060 | E1105: 4304 | F1105: 4549 | G1105: 5037 | H1105: шт
A1106: Датчик протечки воды WSP (5 м) | B1106: 40100112 | C1106: 4500 | D1106: 4788 | E1106: 5076 | F1106: 5364 | G1106: 5940 | H1106: шт
A1107: Датчик протечки воды WSR белый | B1107: 40600210 | C1107: 15036 | D1107: 15998 | E1107: 16961 | F1107: 17923 | G1107: 19848 | H1107: шт
A1108: Комплект Gidrolock Premium BUGATTI 1/2" | B1108: 31201021 | C1108: 119455 | D1108: 127100 | E1108: 134745 | F1108: 142391 | G1108: 157681 | H1108: шт
A1109: Комплект Gidrolock Premium BUGATTI 3/4" | B1109: 31201022 | C1109: 127500 | D1109: 135659 | E1109: 143819 | F1109: 151979 | G1109: 168299 | H1109: шт
A1110: Комплект Gidrolock Premium G-Lock 1/2" | B1110: 31201061 | C1110: 101524 | D1110: 108022 | E1110: 114519 | F1110: 121017 | G1110: 134012 | H1110: шт
A1111: Комплект Gidrolock Premium G-Lock 3/4" | B1111: 31201062 | C1111: 106954 | D1111: 113799 | E1111: 120644 | F1111: 127490 | G1111: 141180 | H1111: шт
A1112: Комплект Gidrolock STANDARD Wi-Fi G-Lock 1/2" | B1112: 32101061 | C1112: 115113 | D1112: 122480 | E1112: 129847 | F1112: 137214 | G1112: 151949 | H1112: шт
A1113: Комплект Gidrolock STANDARD Wi-Fi G-Lock 3/4" | B1113: 32101062 | C1113: 118332 | D1113: 125906 | E1113: 133479 | F1113: 141052 | G1113: 156199 | H1113: шт
A1114: Комплект Gidrоlock Premium RADIO BUGATTI 1/2" | B1114: 31101021 | C1114: 159142 | D1114: 169327 | E1114: 179512 | F1114: 189697 | G1114: 210067 | H1114: шт
... A1119: ШЭП ULTIMATE 220V G-LOCK 3/4" BS | B1119: 11092062 | C1119: 33695 | D1119: 35852 | E1119: 38008 | F1119: 40165 | G1119: 44478 | H1119: шт
A1120: Американка прямая 1/2 АП15.00 никель | B1120: БАЗ.АП.15.Н | C1120: 919 | D1120: 977 | E1120: 1036 | F1120: 1095 | G1120: 1213 | H1120: шт
A1121: Американка прямая 3/4 АП20.00 Никель | B1121: БАЗ.АП.20.Н | C1121: 1424 | D1121: 1516 | E1121: 1607 | F1121: 1698 | G1121: 1880 | H1121: шт
A1122: Заглушка 1 1/4В З 32В никель | B1122: БАЗ.З.32В.Н | C1122: 888 | D1122: 945 | E1122: 1002 | F1122: 1059 | G1122: 1173 | H1122: шт
A1123: Заглушка 1/2В З 15В никель | B1123: БАЗ.З.15В.Н | C1123: 269 | D1123: 286 | E1123: 303 | F1123: 321 | G1123: 355 | H1123: шт
A1124: Заглушка 1/2Н З 15Н никель | B1124: БАЗ.З.15Н.Н | C1124: 265 | D1124: 282 | E1124: 299 | F1124: 316 | G1124: 350 | H1124: шт
A1125: Заглушка 1В З 25В никель | B1125: БАЗ.З.25В.Н | C1125: 514 | D1125: 547 | E1125: 580 | F1125: 613 | G1125: 679 | H1125: шт
A1126: Заглушка 1Н З 25Н никель | B1126: БАЗ.З.25Н.Н | C1126: 577 | D1126: 614 | E1126: 651 | F1126: 688 | G1126: 762 | H1126: шт
A1127: Заглушка 3/4В З 20В никель | B1127: БАЗ.З.20В.Н | C1127: 351 | D1127: 373 | E1127: 396 | F1127: 418 | G1127: 463 | H1127: шт
A1128: Заглушка 3/4Н З 20Н никель | B1128: БАЗ.З.20Н.Н | C1128: 359 | D1128: 382 | E1128: 405 | F1128: 428 | G1128: 473 | H1128: шт
A1129: Кран шаровой "американка" Ду15 А31/1 прямой бабочка никель PN40 | B1129: БАЗ.А.А31.1.15.НГ.40.Н | C1129: 2493 | D1129: 2653 | E1129: 2812 | F1129: 2972 | G1129: 3291 | H1129: шт
A1130: Кран шаровой "американка" Ду20 А31/1 прямой бабочка никель PN40 | B1130: БАЗ.А.А31.1.20.НГ.40.Н | C1130: 3744 | D1130: 3984 | E1130: 4223 | F1130: 4463 | G1130: 4942 | H1130: шт
A1131: Кран шаровой "американка" Ду25 А31 прямой рычаг никель PN40 | B1131: БАЗ.А.А31.0.25.НГ.40.Н | C1131: 5971 | D1131: 6353 | E1131: 6735 | F1131: 7117 | G1131: 7882 | H1131: шт
... A1819: Пресс-муфта переходная MVI, 28x15 (нержавеющая сталь) | B1819: SS.523.0704 | C1819: 976 | D1819: 1038 | E1819: 1100 | F1819: 1163 | G1819: 1288 | H1819: шт
A1820: Пресс-муфта переходная MVI, 28x18 (нержавеющая сталь) | B1820: SS.523.0705 | C1820: 1120 | D1820: 1192 | E1820: 1263 | F1820: 1335 | G1820: 1478
A1821: Пресс-тройник с НР MVI, 42x3/4" (нержавеющая сталь) | B1821: SS.642.090509 | C1821: 3897 | D1821: 4146 | E1821: 4396 | F1821: 4645 | G1821: 5144
A1822: Пресс-тройник с НР MVI, 42х1" (нержавеющая сталь) | B1822: SS.642.090609 | C1822: 4276 | D1822: 4550 | E1822: 4824 | F1822: 5097 | G1822: 5645
A1823: Пресс-обвод MVI, 18 (нержавеющая сталь) | B1823: SS.610.05 | C1823: 1697 | D1823: 1806 | E1823: 1914 | F1823: 2023 | G1823: 2240
A1824: Пресс-обвод MVI, 22 (нержавеющая сталь) | B1824: SS.610.06 | C1824: 2071 | D1824: 2204 | E1824: 2336 | F1824: 2469 | G1824: 2734
A1825: Пресс-обвод MVI, 28 (нержавеющая сталь) | B1825: SS.610.07 | C1825: 2691 | D1825: 2864 | E1825: 3036 | F1825: 3208 | G1825: 3553
A1826: Пресс-обвод ВН MVI, 15 (нержавеющая сталь) | B1826: SS.611.04 | C1826: 1358 | D1826: 1445 | E1826: 1532 | F1826: 1618 | G1826: 1792
A1827: Пресс-тройник с ВР MVI, 42x1"x42 (нержавеющая сталь) | B1827: SS.542.090609 | C1827: 4271 | D1827: 4544 | E1827: 4818 | F1827: 5091 | G1827: 5638
A1828: Пресс-тройник с НР MVI, 22х1/2" (нержавеющая сталь) | B1828: SS.642.060406 | C1828: 1874 | D1828: 1993 | E1828: 2113 | F1828: 2233 | G1828: 2473
A1829: Пресс-тройник с НР MVI, 22х3/4" (нержавеющая сталь) | B1829: SS.642.060506 | C1829: 2042 | D1829: 2173 | E1829: 2303 | F1829: 2434 | G1829: 2695
A1830: Пресс-тройник с НР MVI, 28х1/2" (нержавеющая сталь) | B1830: SS.642.070407 | C1830: 2101 | D1830: 2235 | E1830: 2370 | F1830: 2504 | G1830: 2773
A1831: Пресс-тройник с НР MVI, 28х3/4" (нержавеющая сталь) | B1831: SS.642.070507 | C1831: 2432 | D1831: 2588 | E1831: 2743 | F1831: 2899 | G1831: 3210
... A2034: DMSS-32-25x5 (нерж., магистральное подкл. G 1¼˝, 5 контуров G 1˝, воздухоотвод. Rp ½″) | B2034: 1G 00435 17 | C2034: 88602 | D2034: 94273 | E2034: 99943 | F2034: 105614 | G2034: 116955

Sheet MVI металопласт
A2: Прайс-лист
A4: ТОО "Контур Азия"
A6: Ценовая группа/ Номенклатура/ Характеристика номенклатуры | B6: Артикул | C6: Розница | E6: Ваша скидка
C7: Цена | D7: Ед. | E7: 0
A8: MVI
A9: Пресс-фитинг с переходом на наружную резьбу MVI 16х1/2" | B9: PF.520.0404 | C9: =VLOOKUP(B9,Лист4!$B$2:$G$2034,6,0) -> 801 | D9: шт | E9: =C9-C9*$E$7 -> 801
A10: Пресс-фитинг с переходом на наружную резьбу MVI 20х1/2" | B10: PF.520.0504 | C10: =VLOOKUP(B10,Лист4!$B$2:$G$2034,6,0) -> 1009 | D10: шт | E10: =C10-C10*$E$7 -> 1009
A11: Пресс-фитинг с переходом на наружную резьбу MVI 20х3/4" | B11: PF.520.0505 | C11: =VLOOKUP(B11,Лист4!$B$2:$G$2034,6,0) -> 1185 | D11: шт | E11: =C11-C11*$E$7 -> 1185
A12: Пресс-фитинг с переходом на наружную резьбу MVI 26х3/4" | B12: PF.520.0605 | C12: =VLOOKUP(B12,Лист4!$B$2:$G$2034,6,0) -> 1503 | D12: шт | E12: =C12-C12*$E$7 -> 1503
A13: Пресс-фитинг с переходом на наружную резьбу MVI 26х1" | B13: PF.520.0606 | C13: =VLOOKUP(B13,Лист4!$B$2:$G$2034,6,0) -> 2078 | D13: шт | E13: =C13-C13*$E$7 -> 2078
A14: Пресс-фитинг с переходом на наружную резьбу MVI 32х1" | B14: PF.520.0706 | C14: =VLOOKUP(B14,Лист4!$B$2:$G$2034,6,0) -> 2544 | D14: шт | E14: =C14-C14*$E$7 -> 2544
A15: Пресс-фитинг с переходом на внутреннюю резьбу MVI 16х1/2" | B15: PF.521.0404 | C15: =VLOOKUP(B15,Лист4!$B$2:$G$2034,6,0) -> 907 | D15: шт | E15: =C15-C15*$E$7 -> 907
A16: Пресс-фитинг с переходом на внутреннюю резьбу MVI 20х1/2" | B16: PF.521.0504 | C16: =VLOOKUP(B16,Лист4!$B$2:$G$2034,6,0) -> 1030 | D16: шт | E16: =C16-C16*$E$7 -> 1030
A17: Пресс-фитинг с переходом на внутреннюю резьбу MVI 20х3/4" | B17: PF.521.0505 | C17: =VLOOKUP(B17,Лист4!$B$2:$G$2034,6,0) -> 1319 | D17: шт | E17: =C17-C17*$E$7 -> 1319
A18: Пресс-фитинг с переходом на внутреннюю резьбу MVI 26х3/4" | B18: PF.521.0605 | C18: =VLOOKUP(B18,Лист4!$B$2:$G$2034,6,0) -> 1510 | D18: шт | E18: =C18-C18*$E$7 -> 1510
A19: Пресс-фитинг с переходом на внутреннюю резьбу MVI 26х1" | B19: PF.521.0606 | C19: =VLOOKUP(B19,Лист4!$B$2:$G$2034,6,0) -> 1842 | D19: шт | E19: =C19-C19*$E$7 -> 1842
A20: Пресс-фитинг с переходом на внутреннюю резьбу MVI 32х1" | B20: PF.521.0706 | C20: =VLOOKUP(B20,Лист4!$B$2:$G$2034,6,0) -> 2223 | D20: шт | E20: =C20-C20*$E$7 -> 2223
... A71: Труба металлопластиковая MVI Standard 16*2,0 mm (бухта 200 м) | B71: PM.320.04 | C71: =VLOOKUP(B71,Лист4!$B$2:$G$2034,6,0) -> 526 | D71: пог. м | E71: =C71-C71*$E$7 -> 526

Sheet MVI аксиальная система
A2: Прайс-лист
A4: ТОО "Контур Азия"
A6: Ценовая группа/ Номенклатура/ Характеристика номенклатуры | B6: Артикул | C6: Розница | E6: Ваша скидка
C7: Цена | D7: Ед. | E7: 0
A8: MVI
A9: Труба из сшитого полиэтилена PEX-A с антикислородным барьером EVOH 16*2,0 для теплого пола (бухта 200 м) | B9: PE.220.04 | C9: =VLOOKUP(B9,Лист4!$B$2:$G$2034,6,0) -> 480 | D9: пог. м | E9: =C9-C9*$E$7 -> 480
A10: Труба из сшитого полиэтилена PEX-A с антикислородным барьером EVOH 20*2,0 для теплого пола (бухта 200 м) | B10: PE.220.05 | C10: =VLOOKUP(B10,Лист4!$B$2:$G$2034,6,0) -> 617 | D10: пог. м | E10: =C10-C10*$E$7 -> 617
A11: Труба из сшитого полиэтилена PEX-A с антикислородным барьером EVOH 16*2,0 для теплого пола (бухта 300 м) | B11: PE.230.04 | C11: =VLOOKUP(B11,Лист4!$B$2:$G$2034,6,0) -> 480 | D11: пог. м | E11: =C11-C11*$E$7 -> 480
A12: Труба из сшитого полиэтилена PEX-A с антикислородным барьером EVOH 16*2,0 для теплого пола (бухта 500 м) | B12: PE.250.04 | C12: =VLOOKUP(B12,Лист4!$B$2:$G$2034,6,0) -> 480 | D12: пог. м | E12: =C12-C12*$E$7 -> 480
A13: Труба из сшитого полиэтилена PEX-A с антикислородным барьером EVOH 25*3,5 (бухта 50 м) | B13: PE.405.06 | C13: =VLOOKUP(B13,Лист4!$B$2:$G$2034,6,0) -> 1171 | D13: пог. м | E13: =C13-C13*$E$7 -> 1171
A14: Труба из сшитого полиэтилена PEX-A с антикислородным барьером EVOH 32*4,4 (бухта 50 м) | B14: PE.405.07 | C14: =VLOOKUP(B14,Лист4!$B$2:$G$2034,6,0) -> 1958 | D14: пог. м | E14: =C14-C14*$E$7 -> 1958
A15: Труба из сшитого полиэтилена PEX-A с антикислородным барьером EVOH 20*2,8 (бухта 100 м) | B15: PE.410.05 | C15: =VLOOKUP(B15,Лист4!$B$2:$G$2034,6,0) -> 741 | D15: пог. м | E15: =C15-C15*$E$7 -> 741
A16: Труба из сшитого полиэтилена PEX-A с антикислородным барьером EVOH 16*2,2 (бухта 200 м) | B16: PE.420.04 | C16: =VLOOKUP(B16,Лист4!$B$2:$G$2034,6,0) -> 505 | D16: пог. м | E16: =C16-C16*$E$7 -> 505
A17: Труба из сшитого полиэтилена PEX-A с антикислородным барьером EVOH 20*2,8 (бухта 200 м) | B17: PE.420.05 | C17: =VLOOKUP(B17,Лист4!$B$2:$G$2034,6,0) -> 741 | D17: пог. м | E17: =C17-C17*$E$7 -> 741
A18: Муфта аксиальная соединительная для ремонта труб MVI 16x2.0 | B18: SF.322.04 | C18: =VLOOKUP(B18,Лист4!$B$2:$G$2034,6,0) -> 977 | D18: шт | E18: =C18-C18*$E$7 -> 977
A19: Муфта аксиальная с наружной резьбой MVI 16x1/2" | B19: SF.420.0404 | C19: =VLOOKUP(B19,Лист4!$B$2:$G$2034,6,0) -> 960 | D19: шт | E19: =C19-C19*$E$7 -> 960
A20: Муфта аксиальная с наружной резьбой MVI 16x3/4" | B20: SF.420.0405 | C20: =VLOOKUP(B20,Лист4!$B$2:$G$2034,6,0) -> 1351 | D20: шт | E20: =C20-C20*$E$7 -> 1351
... A129: Коллектор из нержавеющей стали в сборе с расходомерами, дренажным краном и воздухоотводчиком, 5 выходов | B129: MS.705.06 | C129: =VLOOKUP(B129,Лист4!$B$2:$G$2034,6,0) -> 54818 | D129: шт | E129: =C129-C129*$E$7 -> 54818

Sheet MVI нержавеющая сталь
A2: Прайс-лист
A4: ТОО "Контур Азия"
A6: Ценовая группа/ Номенклатура/ Характеристика номенклатуры | B6: Артикул | C6: Розница | E6: Ваша скидка
C7: Цена | D7: Ед. | E7: 0
A8: MVI
A9: Труба из нержавеющей стали MVI, 54х1.5 mm (4 м.) | B9: SS.101.10 | C9: =VLOOKUP(B9,Лист4!$B$2:$G$2034,6,0) -> 10683 | D9: пог. м | E9: =C9-C9*$E$7 -> 10683
A10: Труба из нержавеющей стали MVI, 76х2 mm (4 м.) | B10: SS.101.11 | C10: =VLOOKUP(B10,Лист4!$B$2:$G$2034,6,0) -> 20635 | D10: пог. м | E10: =C10-C10*$E$7 -> 20635
A11: Труба из нержавеющей стали MVI, 88х2 mm (4 м.) | B11: SS.101.12 | C11: =VLOOKUP(B11,Лист4!$B$2:$G$2034,6,0) -> 24488 | D11: пог. м | E11: =C11-C11*$E$7 -> 24488
A12: Труба из нержавеющей стали MVI, 108х2 mm (4 м.) | B12: SS.101.13 | C12: =VLOOKUP(B12,Лист4!$B$2:$G$2034,6,0) -> 30048 | D12: пог. м | E12: =C12-C12*$E$7 -> 30048
A13: Заглушка MVI, 42 (нержавеющая сталь) | B13: SS.510.09 | C13: =VLOOKUP(B13,Лист4!$B$2:$G$2034,6,0) -> 2191 | D13: шт | E13: =C13-C13*$E$7 -> 2191
A14: Заглушка MVI, 54 (нержавеющая сталь) | B14: SS.510.10 | C14: =VLOOKUP(B14,Лист4!$B$2:$G$2034,6,0) -> 3066 | D14: шт | E14: =C14-C14*$E$7 -> 3066
A15: Заглушка MVI, 76 (нержавеющая сталь) | B15: SS.510.11 | C15: =VLOOKUP(B15,Лист4!$B$2:$G$2034,6,0) -> 11586 | D15: шт | E15: =C15-C15*$E$7 -> 11586
A16: Заглушка MVI, 88 (нержавеющая сталь) | B16: SS.510.12 | C16: =VLOOKUP(B16,Лист4!$B$2:$G$2034,6,0) -> 15580 | D16: шт | E16: =C16-C16*$E$7 -> 15580
A17: Заглушка MVI, 108 (нержавеющая сталь) | B17: SS.510.13 | C17: =VLOOKUP(B17,Лист4!$B$2:$G$2034,6,0) -> 21249 | D17: шт | E17: =C17-C17*$E$7 -> 21249
A18: Пресс-фитинг с НР MVI, 28x3/4" (нержавеющая сталь) | B18: SS.520.0705 | C18: =VLOOKUP(B18,Лист4!$B$2:$G$2034,6,0) -> 2018 | D18: шт | E18: =C18-C18*$E$7 -> 2018
A19: Пресс-фитинг с НР MVI, 28x1 1/4" (нержавеющая сталь) | B19: SS.520.0707 | C19: =VLOOKUP(B19,Лист4!$B$2:$G$2034,6,0) -> 3122 | D19: шт | E19: =C19-C19*$E$7 -> 3122
A20: Пресс-фитинг с НР MVI, 35x1 1/2" (нержавеющая сталь) | B20: SS.520.0808 | C20: =VLOOKUP(B20,Лист4!$B$2:$G$2034,6,0) -> 6146 | D20: шт | E20: =C20-C20*$E$7 -> 6146
... A416: Пресс-обвод ВН MVI, 28 (нержавеющая сталь) | B416: SS.611.07 | C416: =VLOOKUP(B416,Лист4!$B$2:$G$2034,6,0) -> 3666 | D416: шт | E416: =C416-C416*$E$7 -> 3666

Sheet MVI труба STABIL
A2: Прайс-лист
A4: ТОО "Контур Азия"
A6: Ценовая группа/ Номенклатура/ Характеристика номенклатуры | B6: Артикул | C6: Розница | E6: Ваша скидка
C7: Цена | D7: Ед. | E7: 0
A8: MVI
A9: Труба STABIL для водоснабжения и отопления 32*4,7 (бухта 25 м) | B9: ST.102.07 | C9: =VLOOKUP(B9,Лист4!$B$2:$G$2034,6,0) -> 3821 | D9: пог. м | E9: =C9-C9*$E$7 -> 3821
A10: Труба STABIL для водоснабжения и отопления 25*3,7 (бухта 50 м) | B10: ST.105.06 | C10: =VLOOKUP(B10,Лист4!$B$2:$G$2034,6,0) -> 2187 | D10: пог. м | E10: =C10-C10*$E$7 -> 2187
A11: Труба STABIL для водоснабжения и отопления 16,2*2,6 (бухта 100 м) | B11: ST.110.04 | C11: =VLOOKUP(B11,Лист4!$B$2:$G$2034,6,0) -> 977 | D11: пог. м | E11: =C11-C11*$E$7 -> 977
A12: Труба STABIL для водоснабжения и отопления 20*2,9 (бухта 100 м) | B12: ST.110.05 | C12: =VLOOKUP(B12,Лист4!$B$2:$G$2034,6,0) -> 1344 | D12: пог. м | E12: =C12-C12*$E$7 -> 1344
A13: Труба STABIL для водоснабжения и отопления 16,2*2,6 (бухта 200 м) | B13: ST.120.04 | C13: =VLOOKUP(B13,Лист4!$B$2:$G$2034,6,0) -> 977 | D13: пог. м | E13: =C13-C13*$E$7 -> 977

Sheet MVI коллектора
A2: Прайс-лист
A4: ТОО "Контур Азия"
A6: Ценовая группа/ Номенклатура/ Характеристика номенклатуры | B6: Артикул | C6: Розница | E6: Ваша скидка
C7: Цена | D7: Ед. | E7: 0
A8: MVI
A9: Узел нижнего подключения прямой, для двухтрубных систем MVI 3/4"x3/4" | B9: TR.410.0505 | C9: =VLOOKUP(B9,Лист4!$B$1181:$G$1819,6,0) -> 4978 | D9: шт | E9: =C9-C9*$E$7 -> 4978
A10: Узел нижнего подключения угловой, для двухтрубных систем MVI 3/4"x3/4" | B10: TR.420.0505 | C10: =VLOOKUP(B10,Лист4!$B$1181:$G$1819,6,0) -> 4978 | D10: шт | E10: =C10-C10*$E$7 -> 4978
A11: Кран для нижнего подключения прямой, с шаровым затвором MVI 3/4"x3/4" | B11: TR.440.0505 | C11: =VLOOKUP(B11,Лист4!$B$1181:$G$1819,6,0) -> 2544 | D11: шт | E11: =C11-C11*$E$7 -> 2544
A12: Группа безопасности котла MVI 1" с манометром, предохранительным клапаном и автоматическим воздухоотводчиком | B12: SE.510.06 | C12: =VLOOKUP(B12,Лист4!$B$1181:$G$1819,6,0) -> 13706 | D12: шт | E12: =C12-C12*$E$7 -> 13706
A13: Компенсатор гидравлического удара MVI 1/2" | B13: SE.702.04 | C13: =VLOOKUP(B13,Лист4!$B$1181:$G$1819,6,0) -> 7635 | D13: шт | E13: =C13-C13*$E$7 -> 7635
A14: Коллектор из нержавеющей стали в сборе с расходомерами, дренажным краном и воздухоотводчиком, 3 выхода | B14: MS.703.06 | C14: =VLOOKUP(B14,Лист4!$B$1181:$G$1819,6,0) -> 40208 | D14: шт | E14: =C14-C14*$E$7 -> 40208
A15: Коллектор из нержавеющей стали в сборе с расходомерами, дренажным краном и воздухоотводчиком, 4 выхода | B15: MS.704.06 | C15: =VLOOKUP(B15,Лист4!$B$1181:$G$1819,6,0) -> 48189 | D15: шт | E15: =C15-C15*$E$7 -> 48189
A16: Коллектор из нержавеющей стали в сборе с расходомерами, дренажным краном и воздухоотводчиком, 6 выходов | B16: MS.706.06 | C16: =VLOOKUP(B16,Лист4!$B$1181:$G$1819,6,0) -> 64269 | D16: шт | E16: =C16-C16*$E$7 -> 64269
A17: Коллектор из нержавеющей стали в сборе с расходомерами, дренажным краном и воздухоотводчиком, 7 выходов | B17: MS.707.06 | C17: =VLOOKUP(B17,Лист4!$B$1181:$G$1819,6,0) -> 73639 | D17: шт | E17: =C17-C17*$E$7 -> 73639
A18: Коллектор из нержавеющей стали в сборе с расходомерами, дренажным краном и воздухоотводчиком, 8 выходов | B18: MS.708.06 | C18: =VLOOKUP(B18,Лист4!$B$1181:$G$1819,6,0) -> 84544 | D18: шт | E18: =C18-C18*$E$7 -> 84544
A19: Коллектор из нержавеющей стали в сборе с расходомерами, дренажным краном и воздухоотводчиком, 9 выходов | B19: MS.709.06 | C19: =VLOOKUP(B19,Лист4!$B$1181:$G$1819,6,0) -> 94899 | D19: шт | E19: =C19-C19*$E$7 -> 94899
A20: Коллектор из нержавеющей стали в сборе с расходомерами, дренажным краном и воздухоотводчиком, 10 выходов | B20: MS.710.06 | C20: =VLOOKUP(B20,Лист4!$B$1181:$G$1819,6,0) -> 101824 | D20: шт | E20: =C20-C20*$E$7 -> 101824
... A29: Коллектор латунный с регулирующими вентилями MVI 3/4"x1/2"x4 выхода | B29: MM.404.0504 | C29: =VLOOKUP(B29,Лист4!$B$1181:$G$1819,6,0) -> 11977 | D29: шт | E29: =C29-C29*$E$7 -> 11977
